{"text_format":"2","workbook":"xlsx","n_sheets":7,"sheets":["Comparison","Summary","FY 2016","FY 2017","FY 2018","FY 2019","FY 2020"],"not_rendered":{"charts":0,"images":0,"macros":0,"external_links":1,"defined_names":301,"comments":0,"pivot_tables":0},"unopened":[],"bounds":{"document_bytes":16777216,"sheet_cells":100000,"run_cost":"one","rows_first":2000,"rows_last":500,"rows_between":2000,"halvings":0,"cell_chars":16384,"cell_head_chars":4096},"cells_cut":0,"cells_raw":0,"read":"whole","date_system":"1900"}

{"sheet":"Comparison","index":0,"n_rows":70,"n_cols":12,"rows_kept":70,"cut":false,"hidden":false,"merged":[[0,1,0,10],[1,1,1,10]]}
["FHWA, HCFB-11","U.S. DEPARTMENT OF TRANSPORTATION",{"$nulls":9},"2015-12-01"]
["TA","FEDERAL HIGHWAY ADMINISTRATION"]
[]
[]
[null,"COMPARISON OF ACTUAL FY 2015 APPORTIONMENTS UNDER THE HIGHWAY AND TRANSPORTATION FUNDING ACT OF 2014, AS AMENDED, AND ESTIMATED"]
[null,"FY 2016 - FY 2020 APPORTIONMENTS UNDER THE CONFERENCE REPORT FOR H.R. 22 (FAST ACT)"]
[null,"(before post-apportionment setasides; before penalties; before sequestration)"]
[]
[]
[null,null,"Actual",null,"Est.","Est.","Est.","Est.","Est.","FY 2016 to 2020","FY 2016 to 2020"]
[null,"State","FY 2015",null,"FY 2016","FY 2017","FY 2018","FY 2019","FY 2020","Total","Average"]
[]
[null,"Alabama",732263043,null,{"$f":"'FY 2016'!L13","v":769571910},{"$f":"'FY 2017'!L13","v":785463731},{"$f":"'FY 2018'!L13","v":802438701},{"$f":"'FY 2019'!L13","v":820550261},{"$f":"'FY 2020'!L13","v":840202114},{"$f":"SUM(E13:I13)","v":4018226717},{"$f":"AVERAGE(E13:I13)","v":803645343.39999998}]
[null,"Alaska",483955039,null,{"$f":"'FY 2016'!L14","v":508614600},{"$f":"'FY 2017'!L14","v":519117557},{"$f":"'FY 2018'!L14","v":530336370},{"$f":"'FY 2019'!L14","v":542306359},{"$f":"'FY 2020'!L14","v":555294332},2655669218,531133843.60000002]
[null,"Arizona",706182063,null,{"$f":"'FY 2016'!L15","v":742166445},{"$f":"'FY 2017'!L15","v":757492248},{"$f":"'FY 2018'!L15","v":773862621},{"$f":"'FY 2019'!L15","v":791329101},{"$f":"'FY 2020'!L15","v":810281016},3875131431,775026286.20000005]
[null,"Arkansas",499714166,null,{"$f":"'FY 2016'!L16","v":525175061},{"$f":"'FY 2017'!L16","v":536020027},{"$f":"'FY 2018'!L16","v":547604161},{"$f":"'FY 2019'!L16","v":559963932},{"$f":"'FY 2020'!L16","v":573374836},2742138017,548427603.39999998]
[null,"California",3542468412,null,{"$f":"'FY 2016'!L17","v":3723001547},{"$f":"'FY 2017'!L17","v":3799881396},{"$f":"'FY 2018'!L17","v":3882001196},{"$f":"'FY 2019'!L17","v":3969619475},{"$f":"'FY 2020'!L17","v":4064689233},19439192847,3887838569.4000001]
[null,"Colorado",516112989,null,{"$f":"'FY 2016'!L18","v":542412699},{"$f":"'FY 2017'!L18","v":553613557},{"$f":"'FY 2018'!L18","v":565577841},{"$f":"'FY 2019'!L18","v":578343213},{"$f":"'FY 2020'!L18","v":592194216},2832141526,566428305.20000005]
[null,"Connecticut",484770705,null,{"$f":"'FY 2016'!L19","v":509473713},{"$f":"'FY 2017'!L19","v":519994372},{"$f":"'FY 2018'!L19","v":531232092},{"$f":"'FY 2019'!L19","v":543222256},{"$f":"'FY 2020'!L19","v":556232120},2660154553,532030910.60000002]
[null,"Delaware",163267961,null,{"$f":"'FY 2016'!L20","v":171587491},{"$f":"'FY 2017'!L20","v":175130787},{"$f":"'FY 2018'!L20","v":178915587},{"$f":"'FY 2019'!L20","v":182953804},{"$f":"'FY 2020'!L20","v":187335451},895923120,179184624]
[null,"Dist. of Col.",154002708,null,{"$f":"'FY 2016'!L21","v":161850034},{"$f":"'FY 2017'!L21","v":165192253},{"$f":"'FY 2018'!L21","v":168762270},{"$f":"'FY 2019'!L21","v":172571324},{"$f":"'FY 2020'!L21","v":176704316},845080197,169016039.40000001]
[null,"Florida",1828689002,null,{"$f":"'FY 2016'!L22","v":1921860645},{"$f":"'FY 2017'!L22","v":1961547473},{"$f":"'FY 2018'!L22","v":2003939263},{"$f":"'FY 2019'!L22","v":2049169471},{"$f":"'FY 2020'!L22","v":2098246272},10034763124,2006952624.8]
[null,"Georgia",1246238772,null,{"$f":"'FY 2016'!L23","v":1309739819},{"$f":"'FY 2017'!L23","v":1336786115},{"$f":"'FY 2018'!L23","v":1365675824},{"$f":"'FY 2019'!L23","v":1396499894},{"$f":"'FY 2020'!L23","v":1429945392},6838647044,1367729408.8]
[null,"Hawaii",163244192,null,{"$f":"'FY 2016'!L24","v":171562378},{"$f":"'FY 2017'!L24","v":175105158},{"$f":"'FY 2018'!L24","v":178889407},{"$f":"'FY 2019'!L24","v":182927036},{"$f":"'FY 2020'!L24","v":187308045},895792024,179158404.80000001]
[null,"Idaho",276061294,null,{"$f":"'FY 2016'!L25","v":290127532},{"$f":"'FY 2017'!L25","v":296118707},{"$f":"'FY 2018'!L25","v":302518228},{"$f":"'FY 2019'!L25","v":309346239},{"$f":"'FY 2020'!L25","v":316754938},1514865644,302973128.80000001]
[null,"Illinois",1372231384,null,{"$f":"'FY 2016'!L26","v":1442156608},{"$f":"'FY 2017'!L26","v":1471937238},{"$f":"'FY 2018'!L26","v":1503747647},{"$f":"'FY 2019'!L26","v":1537687978},{"$f":"'FY 2020'!L26","v":1574514759},7530044230,1506008846]
[null,"Indiana",919668926,null,{"$f":"'FY 2016'!L27","v":966529532},{"$f":"'FY 2017'!L27","v":986488498},{"$f":"'FY 2018'!L27","v":1007807822},{"$f":"'FY 2019'!L27","v":1030554618},{"$f":"'FY 2020'!L27","v":1055235912},5046616382,1009323276.4]
[null,"Iowa",474345450,null,{"$f":"'FY 2016'!L28","v":498513780},{"$f":"'FY 2017'!L28","v":508808186},{"$f":"'FY 2018'!L28","v":519804234},{"$f":"'FY 2019'!L28","v":531536542},{"$f":"'FY 2020'!L28","v":544266622},2602929364,520585872.80000001]
[null,"Kansas",364737489,null,{"$f":"'FY 2016'!L29","v":383321318},{"$f":"'FY 2017'!L29","v":391236975},{"$f":"'FY 2018'!L29","v":399692143},{"$f":"'FY 2019'!L29","v":408713444},{"$f":"'FY 2020'!L29","v":418501959},2001465839,400293167.80000001]
[null,"Kentucky",641292458,null,{"$f":"'FY 2016'!L30","v":673966719},{"$f":"'FY 2017'!L30","v":687884265},{"$f":"'FY 2018'!L30","v":702750398},{"$f":"'FY 2019'!L30","v":718611920},{"$f":"'FY 2020'!L30","v":735822382},3519035684,703807136.79999995]
[null,"Louisiana",677413014,null,{"$f":"'FY 2016'!L31","v":711927496},{"$f":"'FY 2017'!L31","v":726628943},{"$f":"'FY 2018'!L31","v":742332405},{"$f":"'FY 2019'!L31","v":759087323},{"$f":"'FY 2020'!L31","v":777267157},3717243324,743448664.79999995]
[null,"Maine",178165560,null,{"$f":"'FY 2016'!L32","v":187243965},{"$f":"'FY 2017'!L32","v":191110574},{"$f":"'FY 2018'!L32","v":195240722},{"$f":"'FY 2019'!L32","v":199647412},{"$f":"'FY 2020'!L32","v":204428868},977671541,195534308.19999999]
[null,"Maryland",580007300,null,{"$f":"'FY 2016'!L33","v":609563599},{"$f":"'FY 2017'!L33","v":622151114},{"$f":"'FY 2018'!L33","v":635596565},{"$f":"'FY 2019'!L33","v":649942279},{"$f":"'FY 2020'!L33","v":665508023},3182761580,636552316]
[null,"Massachusetts",586191765,null,{"$f":"'FY 2016'!L34","v":616064316},{"$f":"'FY 2017'!L34","v":628786048},{"$f":"'FY 2018'!L34","v":642374865},{"$f":"'FY 2019'!L34","v":656873544},{"$f":"'FY 2020'!L34","v":672605261},3216704034,643340806.79999995]
[null,"Michigan",1016207628,null,{"$f":"'FY 2016'!L35","v":1067989869},{"$f":"'FY 2017'!L35","v":1090043951},{"$f":"'FY 2018'!L35","v":1113601188},{"$f":"'FY 2019'!L35","v":1138735743},{"$f":"'FY 2020'!L35","v":1166007859},5576378610,1115275722]
[null,"Minnesota",629372872,null,{"$f":"'FY 2016'!L36","v":661441891},{"$f":"'FY 2017'!L36","v":675100754},{"$f":"'FY 2018'!L36","v":689690575},{"$f":"'FY 2019'!L36","v":705257282},{"$f":"'FY 2020'!L36","v":722147855},3453638357,690727671.39999998]
[null,"Mississippi",466803812,null,{"$f":"'FY 2016'!L37","v":490587875},{"$f":"'FY 2017'!L37","v":500718610},{"$f":"'FY 2018'!L37","v":511539831},{"$f":"'FY 2019'!L37","v":523085607},{"$f":"'FY 2020'!L37","v":535613291},2561545214,512309042.80000001]
[null,"Missouri",913719741,null,{"$f":"'FY 2016'!L38","v":960274903},{"$f":"'FY 2017'!L38","v":980104758},{"$f":"'FY 2018'!L38","v":1001286170},{"$f":"'FY 2019'!L38","v":1023885822},{"$f":"'FY 2020'!L38","v":1048407455},5013959108,1002791821.6]
[null,"Montana",396007464,null,{"$f":"'FY 2016'!L39","v":416184959},{"$f":"'FY 2017'!L39","v":424779247},{"$f":"'FY 2018'!L39","v":433959302},{"$f":"'FY 2019'!L39","v":443754023},{"$f":"'FY 2020'!L39","v":454381736},2173059267,434611853.39999998]
[null,"Nebraska",278976662,null,{"$f":"'FY 2016'!L40","v":293191186},{"$f":"'FY 2017'!L40","v":299245632},{"$f":"'FY 2018'!L40","v":305712735},{"$f":"'FY 2019'!L40","v":312612854},{"$f":"'FY 2020'!L40","v":320099792},1530862199,306172439.80000001]
[null,"Nevada",350472546,null,{"$f":"'FY 2016'!L41","v":368332024},{"$f":"'FY 2017'!L41","v":375938098},{"$f":"'FY 2018'!L41","v":384062585},{"$f":"'FY 2019'!L41","v":392731061},{"$f":"'FY 2020'!L41","v":402136745},1923200513,384640102.60000002]
[null,"New Hampshire",159469843,null,{"$f":"'FY 2016'!L42","v":167595715},{"$f":"'FY 2017'!L42","v":171056584},{"$f":"'FY 2018'!L42","v":174753337},{"$f":"'FY 2019'!L42","v":178697613},{"$f":"'FY 2020'!L42","v":182977330},875080579,175016115.80000001]
[null,"New Jersey",963682664,null,{"$f":"'FY 2016'!L43","v":1012792050},{"$f":"'FY 2017'!L43","v":1033706218},{"$f":"'FY 2018'!L43","v":1056045847},{"$f":"'FY 2019'!L43","v":1079881265},{"$f":"'FY 2020'!L43","v":1105743762},5288169142,1057633828.4]
[null,"New Mexico",354439590,null,{"$f":"'FY 2016'!L44","v":372498916},{"$f":"'FY 2017'!L44","v":380191084},{"$f":"'FY 2018'!L44","v":388407532},{"$f":"'FY 2019'!L44","v":397174128},{"$f":"'FY 2020'!L44","v":406686276},1944957936,388991587.19999999]
[null,"New York",1620088460,null,{"$f":"'FY 2016'!L45","v":1702649572},{"$f":"'FY 2017'!L45","v":1737809280},{"$f":"'FY 2018'!L45","v":1775365392},{"$f":"'FY 2019'!L45","v":1815436141},{"$f":"'FY 2020'!L45","v":1858914699},{"$f":"SUM(E45:I45)","v":8890175084},{"$f":"AVERAGE(E45:I45)","v":1778035016.8}]
[null,"North Carolina",1006630450,null,{"$f":"'FY 2016'!L46","v":1057922052},{"$f":"'FY 2017'!L46","v":1079768287},{"$f":"'FY 2018'!L46","v":1103103510},{"$f":"'FY 2019'!L46","v":1128001186},{"$f":"'FY 2020'!L46","v":1155016278},5523811313,1104762262.5999999]
[null,"North Dakota",239621802,null,{"$f":"'FY 2016'!L47","v":251831294},{"$f":"'FY 2017'!L47","v":257031648},{"$f":"'FY 2018'!L47","v":262586445},{"$f":"'FY 2019'!L47","v":268513174},{"$f":"'FY 2020'!L47","v":274943940},1314906501,262981300.19999999]
[null,"Ohio",1293739008,null,{"$f":"'FY 2016'!L48","v":1359663237},{"$f":"'FY 2017'!L48","v":1387740399},{"$f":"'FY 2018'!L48","v":1417731235},{"$f":"'FY 2019'!L48","v":1449730162},{"$f":"'FY 2020'!L48","v":1484450429},7099315462,1419863092.4000001]
[null,"Oklahoma",612127810,null,{"$f":"'FY 2016'!L49","v":643315998},{"$f":"'FY 2017'!L49","v":656600603},{"$f":"'FY 2018'!L49","v":670790656},{"$f":"'FY 2019'!L49","v":685930829},{"$f":"'FY 2020'!L49","v":702358595},3358996681,671799336.20000005]
[null,"Oregon",482423497,null,{"$f":"'FY 2016'!L50","v":507004353},{"$f":"'FY 2017'!L50","v":517474070},{"$f":"'FY 2018'!L50","v":528657381},{"$f":"'FY 2019'!L50","v":540589488},{"$f":"'FY 2020'!L50","v":553536361},2647261653,529452330.60000002]
[null,"Pennsylvania",1583603275,null,{"$f":"'FY 2016'!L51","v":1664296550},{"$f":"'FY 2017'!L51","v":1698664445},{"$f":"'FY 2018'!L51","v":1735374776},{"$f":"'FY 2019'!L51","v":1774543112},{"$f":"'FY 2020'!L51","v":1817042511},8689921394,1737984278.8]
[null,"Rhode Island",211081927,null,{"$f":"'FY 2016'!L52","v":221837373},{"$f":"'FY 2017'!L52","v":226418345},{"$f":"'FY 2018'!L52","v":231311545},{"$f":"'FY 2019'!L52","v":236532377},{"$f":"'FY 2020'!L52","v":242197215},1158296855,231659371]
[null,"South Carolina",646306850,null,{"$f":"'FY 2016'!L53","v":679236584},{"$f":"'FY 2017'!L53","v":693262955},{"$f":"'FY 2018'!L53","v":708245330},{"$f":"'FY 2019'!L53","v":724230875},{"$f":"'FY 2020'!L53","v":741575911},3546551655,709310331]
[null,"South Dakota",272190802,null,{"$f":"'FY 2016'!L54","v":286059805},{"$f":"'FY 2017'!L54","v":291966983},{"$f":"'FY 2018'!L54","v":298276779},{"$f":"'FY 2019'!L54","v":305009059},{"$f":"'FY 2020'!L54","v":312313885},1493626511,298725302.19999999]
[null,"Tennessee",815605297,null,{"$f":"'FY 2016'!L55","v":857163013},{"$f":"'FY 2017'!L55","v":874863555},{"$f":"'FY 2018'!L55","v":893770525},{"$f":"'FY 2019'!L55","v":913943445},{"$f":"'FY 2020'!L55","v":935831968},4475572506,895114501.20000005]
[null,"Texas",3331596800,null,{"$f":"'FY 2016'!L56","v":3501354175},{"$f":"'FY 2017'!L56","v":3573657617},{"$f":"'FY 2018'!L56","v":3650889094},{"$f":"'FY 2019'!L56","v":3733291741},{"$f":"'FY 2020'!L56","v":3822702306},18281894933,3656378986.5999999]
[null,"Utah",335148600,null,{"$f":"'FY 2016'!L57","v":352225393},{"$f":"'FY 2017'!L57","v":359498902},{"$f":"'FY 2018'!L57","v":367268156},{"$f":"'FY 2019'!L57","v":375557614},{"$f":"'FY 2020'!L57","v":384552048},1839102113,367820422.60000002]
[null,"Vermont",195886832,null,{"$f":"'FY 2016'!L58","v":205868282},{"$f":"'FY 2017'!L58","v":210119484},{"$f":"'FY 2018'!L58","v":214660438},{"$f":"'FY 2019'!L58","v":219505440},{"$f":"'FY 2020'!L58","v":224762485},1074916129,214983225.80000001]
[null,"Virginia",982180040,null,{"$f":"'FY 2016'!L59","v":1032226472},{"$f":"'FY 2017'!L59","v":1053542076},{"$f":"'FY 2018'!L59","v":1076310501},{"$f":"'FY 2019'!L59","v":1100603428},{"$f":"'FY 2020'!L59","v":1126962342},5389644819,1077928963.8]
[null,"Washington",654304963,null,{"$f":"'FY 2016'!L60","v":687644962},{"$f":"'FY 2017'!L60","v":701844910},{"$f":"'FY 2018'!L60","v":717012693},{"$f":"'FY 2019'!L60","v":733196062},{"$f":"'FY 2020'!L60","v":750755744},3590454371,718090874.20000005]
[null,"West Virginia",421797542,null,{"$f":"'FY 2016'!L61","v":443288929},{"$f":"'FY 2017'!L61","v":452442922},{"$f":"'FY 2018'!L61","v":462220829},{"$f":"'FY 2019'!L61","v":472653435},{"$f":"'FY 2020'!L61","v":483973279},2314579394,462915878.80000001]
[null,"Wisconsin",726226908,null,{"$f":"'FY 2016'!L62","v":763229980},{"$f":"'FY 2017'!L62","v":778990803},{"$f":"'FY 2018'!L62","v":795825845},{"$f":"'FY 2019'!L62","v":813788109},{"$f":"'FY 2020'!L62","v":833277970},3985112707,797022541.39999998]
[null,"Wyoming",247262623,null,{"$f":"'FY 2016'!L63","v":259861381},{"$f":"'FY 2017'!L63","v":265227558},{"$f":"'FY 2018'!L63","v":270959481},{"$f":"'FY 2019'!L63","v":277075196},{"$f":"'FY 2020'!L63","v":283711020},1356834636,271366927.19999999]
[]
[null,"Apportioned Total",{"$f":"SUM(C13:C63)","v":37798000000},null,{"$f":"SUM(E13:E63)","v":39724000000},{"$f":"SUM(F13:F63)","v":40544305000},41420520075,42355403696,43369794311,{"$f":"SUM(E65:I65)","v":207414023082},{"$f":"AVERAGE(E65:I65)","v":41482804616.400002}]
[]
[null,"* Reflects $3,500,000 takedown for safety-related programs for each fiscal year 2016 -2020."]
[]
[null,"Disclaimer:  This technical assistance is provided in response to a Congressional request and is not intended to reflect the viewpoint or policies of any element of the "]
[null,"Department of Transportation or the Administration. "]

{"sheet":"Summary","index":1,"n_rows":70,"n_cols":13,"rows_kept":70,"cut":false,"hidden":false,"merged":[[0,1,0,11],[1,1,1,11]]}
["FHWA, HCFB-11","U.S. DEPARTMENT OF TRANSPORTATION",{"$nulls":10},{"$f":"Comparison!L1","v":"2015-12-01"}]
[{"$f":"Comparison!A2","v":"TA"},"FEDERAL HIGHWAY ADMINISTRATION"]
[]
[]
[null,"SUMMARY OF ESTIMATED FY 2016 - FY 2020 APPORTIONMENTS UNDER THE CONFERENCE REPORT FOR H.R. 22 (FAST ACT)"]
[null,null,"(before post-apportionment setasides; before penalties; before sequestration)"]
[]
[null,null,"National","Surface","Surface","STBGP set-aside:","Highway","Railway-"]
[null,null,"Highway","Transportation","Transportation","Recreational ","Safety","Highway",null,null,"National"]
[null,null,"Performance","Block Grant","Block Grant","Trails","Improvement","Crossings","CMAQ","Metropolitan","Freight","Apportioned"]
[null,"State","Program","Program","Set-aside","Program","Program 1","Program","Program","Planning","Program","Total"]
[]
[null,"Alabama",{"$f":"'FY 2016'!C13+'FY 2017'!C13+'FY 2018'!C13+'FY 2019'!C13+'FY 2020'!C13","v":2376361706},{"$f":"'FY 2016'!D13+'FY 2017'!D13+'FY 2018'!D13+'FY 2019'!D13+'FY 2020'!D13","v":1097004461},{"$f":"'FY 2016'!E13+'FY 2017'!E13+'FY 2018'!E13+'FY 2019'!E13+'FY 2020'!E13","v":78896756},{"$f":"'FY 2016'!F13+'FY 2017'!F13+'FY 2018'!F13+'FY 2019'!F13+'FY 2020'!F13","v":8748935},{"$f":"'FY 2016'!G13+'FY 2017'!G13+'FY 2018'!G13+'FY 2019'!G13+'FY 2020'!G13","v":236195156},{"$f":"'FY 2016'!H13+'FY 2017'!H13+'FY 2018'!H13+'FY 2019'!H13+'FY 2020'!H13","v":24330066},{"$f":"'FY 2016'!I13+'FY 2017'!I13+'FY 2018'!I13+'FY 2019'!I13+'FY 2020'!I13","v":59168350},{"$f":"'FY 2016'!J13+'FY 2017'!J13+'FY 2018'!J13+'FY 2019'!J13+'FY 2020'!J13","v":15967692},{"$f":"'FY 2016'!K13+'FY 2017'!K13+'FY 2018'!K13+'FY 2019'!K13+'FY 2020'!K13","v":121553595},{"$f":"SUM(C13:K13)","v":4018226717}]
[null,"Alaska",{"$f":"'FY 2016'!C14+'FY 2017'!C14+'FY 2018'!C14+'FY 2019'!C14+'FY 2020'!C14","v":1503781098},{"$f":"'FY 2016'!D14+'FY 2017'!D14+'FY 2018'!D14+'FY 2019'!D14+'FY 2020'!D14","v":718552415},{"$f":"'FY 2016'!E14+'FY 2017'!E14+'FY 2018'!E14+'FY 2019'!E14+'FY 2020'!E14","v":26037733},{"$f":"'FY 2016'!F14+'FY 2017'!F14+'FY 2018'!F14+'FY 2019'!F14+'FY 2020'!F14","v":7639610},{"$f":"'FY 2016'!G14+'FY 2017'!G14+'FY 2018'!G14+'FY 2019'!G14+'FY 2020'!G14","v":158980298},{"$f":"'FY 2016'!H14+'FY 2017'!H14+'FY 2018'!H14+'FY 2019'!H14+'FY 2020'!H14","v":5875000},{"$f":"'FY 2016'!I14+'FY 2017'!I14+'FY 2018'!I14+'FY 2019'!I14+'FY 2020'!I14","v":142730532},{"$f":"'FY 2016'!J14+'FY 2017'!J14+'FY 2018'!J14+'FY 2019'!J14+'FY 2020'!J14","v":11775386},{"$f":"'FY 2016'!K14+'FY 2017'!K14+'FY 2018'!K14+'FY 2019'!K14+'FY 2020'!K14","v":80297146},{"$f":"SUM(C14:K14)","v":2655669218}]
[null,"Arizona",{"$f":"'FY 2016'!C15+'FY 2017'!C15+'FY 2018'!C15+'FY 2019'!C15+'FY 2020'!C15","v":2147423362},{"$f":"'FY 2016'!D15+'FY 2017'!D15+'FY 2018'!D15+'FY 2019'!D15+'FY 2020'!D15","v":988132635},{"$f":"'FY 2016'!E15+'FY 2017'!E15+'FY 2018'!E15+'FY 2019'!E15+'FY 2020'!E15","v":78276298},{"$f":"'FY 2016'!F15+'FY 2017'!F15+'FY 2018'!F15+'FY 2019'!F15+'FY 2020'!F15","v":9674315},{"$f":"'FY 2016'!G15+'FY 2017'!G15+'FY 2018'!G15+'FY 2019'!G15+'FY 2020'!G15","v":221178085},{"$f":"'FY 2016'!H15+'FY 2017'!H15+'FY 2018'!H15+'FY 2019'!H15+'FY 2020'!H15","v":14232640},{"$f":"'FY 2016'!I15+'FY 2017'!I15+'FY 2018'!I15+'FY 2019'!I15+'FY 2020'!I15","v":269067379},{"$f":"'FY 2016'!J15+'FY 2017'!J15+'FY 2018'!J15+'FY 2019'!J15+'FY 2020'!J15","v":30388778},{"$f":"'FY 2016'!K15+'FY 2017'!K15+'FY 2018'!K15+'FY 2019'!K15+'FY 2020'!K15","v":116757939},3875131431]
[null,"Arkansas",{"$f":"'FY 2016'!C16+'FY 2017'!C16+'FY 2018'!C16+'FY 2019'!C16+'FY 2020'!C16","v":1607942773},{"$f":"'FY 2016'!D16+'FY 2017'!D16+'FY 2018'!D16+'FY 2019'!D16+'FY 2020'!D16","v":745575898},{"$f":"'FY 2016'!E16+'FY 2017'!E16+'FY 2018'!E16+'FY 2019'!E16+'FY 2020'!E16","v":49066419},{"$f":"'FY 2016'!F16+'FY 2017'!F16+'FY 2018'!F16+'FY 2019'!F16+'FY 2020'!F16","v":7469845},{"$f":"'FY 2016'!G16+'FY 2017'!G16+'FY 2018'!G16+'FY 2019'!G16+'FY 2020'!G16","v":156208950},{"$f":"'FY 2016'!H16+'FY 2017'!H16+'FY 2018'!H16+'FY 2019'!H16+'FY 2020'!H16","v":20071508},{"$f":"'FY 2016'!I16+'FY 2017'!I16+'FY 2018'!I16+'FY 2019'!I16+'FY 2020'!I16","v":63867523},{"$f":"'FY 2016'!J16+'FY 2017'!J16+'FY 2018'!J16+'FY 2019'!J16+'FY 2020'!J16","v":8922553},{"$f":"'FY 2016'!K16+'FY 2017'!K16+'FY 2018'!K16+'FY 2019'!K16+'FY 2020'!K16","v":83012548},2742138017]
[null,"California",{"$f":"'FY 2016'!C17+'FY 2017'!C17+'FY 2018'!C17+'FY 2019'!C17+'FY 2020'!C17","v":10032529736},{"$f":"'FY 2016'!D17+'FY 2017'!D17+'FY 2018'!D17+'FY 2019'!D17+'FY 2020'!D17","v":4680460102},{"$f":"'FY 2016'!E17+'FY 2017'!E17+'FY 2018'!E17+'FY 2019'!E17+'FY 2020'!E17","v":348533054},{"$f":"'FY 2016'!F17+'FY 2017'!F17+'FY 2018'!F17+'FY 2019'!F17+'FY 2020'!F17","v":28780945},{"$f":"'FY 2016'!G17+'FY 2017'!G17+'FY 2018'!G17+'FY 2019'!G17+'FY 2020'!G17","v":1017592522},{"$f":"'FY 2016'!H17+'FY 2017'!H17+'FY 2018'!H17+'FY 2019'!H17+'FY 2020'!H17","v":82135958},{"$f":"'FY 2016'!I17+'FY 2017'!I17+'FY 2018'!I17+'FY 2019'!I17+'FY 2020'!I17","v":2406968478},{"$f":"'FY 2016'!J17+'FY 2017'!J17+'FY 2018'!J17+'FY 2019'!J17+'FY 2020'!J17","v":259831965},{"$f":"'FY 2016'!K17+'FY 2017'!K17+'FY 2018'!K17+'FY 2019'!K17+'FY 2020'!K17","v":582360087},19439192847]
[null,"Colorado",{"$f":"'FY 2016'!C18+'FY 2017'!C18+'FY 2018'!C18+'FY 2019'!C18+'FY 2020'!C18","v":1551723500},{"$f":"'FY 2016'!D18+'FY 2017'!D18+'FY 2018'!D18+'FY 2019'!D18+'FY 2020'!D18","v":717263564},{"$f":"'FY 2016'!E18+'FY 2017'!E18+'FY 2018'!E18+'FY 2019'!E18+'FY 2020'!E18","v":53082555},{"$f":"'FY 2016'!F18+'FY 2017'!F18+'FY 2018'!F18+'FY 2019'!F18+'FY 2020'!F18","v":7958260},{"$f":"'FY 2016'!G18+'FY 2017'!G18+'FY 2018'!G18+'FY 2019'!G18+'FY 2020'!G18","v":153203318},{"$f":"'FY 2016'!H18+'FY 2017'!H18+'FY 2018'!H18+'FY 2019'!H18+'FY 2020'!H18","v":16901928},{"$f":"'FY 2016'!I18+'FY 2017'!I18+'FY 2018'!I18+'FY 2019'!I18+'FY 2020'!I18","v":219373417},{"$f":"'FY 2016'!J18+'FY 2017'!J18+'FY 2018'!J18+'FY 2019'!J18+'FY 2020'!J18","v":27465980},{"$f":"'FY 2016'!K18+'FY 2017'!K18+'FY 2018'!K18+'FY 2019'!K18+'FY 2020'!K18","v":85169004},2832141526]
[null,"Connecticut",{"$f":"'FY 2016'!C19+'FY 2017'!C19+'FY 2018'!C19+'FY 2019'!C19+'FY 2020'!C19","v":1443708482},{"$f":"'FY 2016'!D19+'FY 2017'!D19+'FY 2018'!D19+'FY 2019'!D19+'FY 2020'!D19","v":679950379},{"$f":"'FY 2016'!E19+'FY 2017'!E19+'FY 2018'!E19+'FY 2019'!E19+'FY 2020'!E19","v":39938814},{"$f":"'FY 2016'!F19+'FY 2017'!F19+'FY 2018'!F19+'FY 2019'!F19+'FY 2020'!F19","v":4811080},{"$f":"'FY 2016'!G19+'FY 2017'!G19+'FY 2018'!G19+'FY 2019'!G19+'FY 2020'!G19","v":151404555},{"$f":"'FY 2016'!H19+'FY 2017'!H19+'FY 2018'!H19+'FY 2019'!H19+'FY 2020'!H19","v":6858117},{"$f":"'FY 2016'!I19+'FY 2017'!I19+'FY 2018'!I19+'FY 2019'!I19+'FY 2020'!I19","v":229462021},{"$f":"'FY 2016'!J19+'FY 2017'!J19+'FY 2018'!J19+'FY 2019'!J19+'FY 2020'!J19","v":23967260},{"$f":"'FY 2016'!K19+'FY 2017'!K19+'FY 2018'!K19+'FY 2019'!K19+'FY 2020'!K19","v":80053845},2660154553]
[null,"Delaware",{"$f":"'FY 2016'!C20+'FY 2017'!C20+'FY 2018'!C20+'FY 2019'!C20+'FY 2020'!C20","v":496202821},{"$f":"'FY 2016'!D20+'FY 2017'!D20+'FY 2018'!D20+'FY 2019'!D20+'FY 2020'!D20","v":229975469},{"$f":"'FY 2016'!E20+'FY 2017'!E20+'FY 2018'!E20+'FY 2019'!E20+'FY 2020'!E20","v":14156949},{"$f":"'FY 2016'!F20+'FY 2017'!F20+'FY 2018'!F20+'FY 2019'!F20+'FY 2020'!F20","v":4528400},{"$f":"'FY 2016'!G20+'FY 2017'!G20+'FY 2018'!G20+'FY 2019'!G20+'FY 2020'!G20","v":48521072},{"$f":"'FY 2016'!H20+'FY 2017'!H20+'FY 2018'!H20+'FY 2019'!H20+'FY 2020'!H20","v":5875000},{"$f":"'FY 2016'!I20+'FY 2017'!I20+'FY 2018'!I20+'FY 2019'!I20+'FY 2020'!I20","v":60484623},{"$f":"'FY 2016'!J20+'FY 2017'!J20+'FY 2018'!J20+'FY 2019'!J20+'FY 2020'!J20","v":9253879},{"$f":"'FY 2016'!K20+'FY 2017'!K20+'FY 2018'!K20+'FY 2019'!K20+'FY 2020'!K20","v":26924907},895923120]
[null,"Dist. of Col.",{"$f":"'FY 2016'!C21+'FY 2017'!C21+'FY 2018'!C21+'FY 2019'!C21+'FY 2020'!C21","v":470709734},{"$f":"'FY 2016'!D21+'FY 2017'!D21+'FY 2018'!D21+'FY 2019'!D21+'FY 2020'!D21","v":219454356},{"$f":"'FY 2016'!E21+'FY 2017'!E21+'FY 2018'!E21+'FY 2019'!E21+'FY 2020'!E21","v":12195967},{"$f":"'FY 2016'!F21+'FY 2017'!F21+'FY 2018'!F21+'FY 2019'!F21+'FY 2020'!F21","v":4125490},{"$f":"'FY 2016'!G21+'FY 2017'!G21+'FY 2018'!G21+'FY 2019'!G21+'FY 2020'!G21","v":45726707},{"$f":"'FY 2016'!H21+'FY 2017'!H21+'FY 2018'!H21+'FY 2019'!H21+'FY 2020'!H21","v":5875000},{"$f":"'FY 2016'!I21+'FY 2017'!I21+'FY 2018'!I21+'FY 2019'!I21+'FY 2020'!I21","v":52393838},{"$f":"'FY 2016'!J21+'FY 2017'!J21+'FY 2018'!J21+'FY 2019'!J21+'FY 2020'!J21","v":9217352},{"$f":"'FY 2016'!K21+'FY 2017'!K21+'FY 2018'!K21+'FY 2019'!K21+'FY 2020'!K21","v":25381753},845080197]
[null,"Florida",{"$f":"'FY 2016'!C22+'FY 2017'!C22+'FY 2018'!C22+'FY 2019'!C22+'FY 2020'!C22","v":5941963917},{"$f":"'FY 2016'!D22+'FY 2017'!D22+'FY 2018'!D22+'FY 2019'!D22+'FY 2020'!D22","v":2705025195},{"$f":"'FY 2016'!E22+'FY 2017'!E22+'FY 2018'!E22+'FY 2019'!E22+'FY 2020'!E22","v":243828684},{"$f":"'FY 2016'!F22+'FY 2017'!F22+'FY 2018'!F22+'FY 2019'!F22+'FY 2020'!F22","v":13012660},{"$f":"'FY 2016'!G22+'FY 2017'!G22+'FY 2018'!G22+'FY 2019'!G22+'FY 2020'!G22","v":606260363},{"$f":"'FY 2016'!H22+'FY 2017'!H22+'FY 2018'!H22+'FY 2019'!H22+'FY 2020'!H22","v":45169660},{"$f":"'FY 2016'!I22+'FY 2017'!I22+'FY 2018'!I22+'FY 2019'!I22+'FY 2020'!I22","v":70524881},{"$f":"'FY 2016'!J22+'FY 2017'!J22+'FY 2018'!J22+'FY 2019'!J22+'FY 2020'!J22","v":107524898},{"$f":"'FY 2016'!K22+'FY 2017'!K22+'FY 2018'!K22+'FY 2019'!K22+'FY 2020'!K22","v":301452866},10034763124]
[null,"Georgia",{"$f":"'FY 2016'!C23+'FY 2017'!C23+'FY 2018'!C23+'FY 2019'!C23+'FY 2020'!C23","v":3875854455},{"$f":"'FY 2016'!D23+'FY 2017'!D23+'FY 2018'!D23+'FY 2019'!D23+'FY 2020'!D23","v":1768517600},{"$f":"'FY 2016'!E23+'FY 2017'!E23+'FY 2018'!E23+'FY 2019'!E23+'FY 2020'!E23","v":161444393},{"$f":"'FY 2016'!F23+'FY 2017'!F23+'FY 2018'!F23+'FY 2019'!F23+'FY 2020'!F23","v":8700685},{"$f":"'FY 2016'!G23+'FY 2017'!G23+'FY 2018'!G23+'FY 2019'!G23+'FY 2020'!G23","v":382921031},{"$f":"'FY 2016'!H23+'FY 2017'!H23+'FY 2018'!H23+'FY 2019'!H23+'FY 2020'!H23","v":41978401},{"$f":"'FY 2016'!I23+'FY 2017'!I23+'FY 2018'!I23+'FY 2019'!I23+'FY 2020'!I23","v":352419474},{"$f":"'FY 2016'!J23+'FY 2017'!J23+'FY 2018'!J23+'FY 2019'!J23+'FY 2020'!J23","v":40348671},{"$f":"'FY 2016'!K23+'FY 2017'!K23+'FY 2018'!K23+'FY 2019'!K23+'FY 2020'!K23","v":206462334},6838647044]
[null,"Hawaii",{"$f":"'FY 2016'!C24+'FY 2017'!C24+'FY 2018'!C24+'FY 2019'!C24+'FY 2020'!C24","v":500535140},{"$f":"'FY 2016'!D24+'FY 2017'!D24+'FY 2018'!D24+'FY 2019'!D24+'FY 2020'!D24","v":231913045},{"$f":"'FY 2016'!E24+'FY 2017'!E24+'FY 2018'!E24+'FY 2019'!E24+'FY 2020'!E24","v":13935211},{"$f":"'FY 2016'!F24+'FY 2017'!F24+'FY 2018'!F24+'FY 2019'!F24+'FY 2020'!F24","v":4802320},{"$f":"'FY 2016'!G24+'FY 2017'!G24+'FY 2018'!G24+'FY 2019'!G24+'FY 2020'!G24","v":48996506},{"$f":"'FY 2016'!H24+'FY 2017'!H24+'FY 2018'!H24+'FY 2019'!H24+'FY 2020'!H24","v":5875000},{"$f":"'FY 2016'!I24+'FY 2017'!I24+'FY 2018'!I24+'FY 2019'!I24+'FY 2020'!I24","v":53726281},{"$f":"'FY 2016'!J24+'FY 2017'!J24+'FY 2018'!J24+'FY 2019'!J24+'FY 2020'!J24","v":9082235},{"$f":"'FY 2016'!K24+'FY 2017'!K24+'FY 2018'!K24+'FY 2019'!K24+'FY 2020'!K24","v":26926286},895792024]
[null,"Idaho",{"$f":"'FY 2016'!C25+'FY 2017'!C25+'FY 2018'!C25+'FY 2019'!C25+'FY 2020'!C25","v":866282379},{"$f":"'FY 2016'!D25+'FY 2017'!D25+'FY 2018'!D25+'FY 2019'!D25+'FY 2020'!D25","v":404714029},{"$f":"'FY 2016'!E25+'FY 2017'!E25+'FY 2018'!E25+'FY 2019'!E25+'FY 2020'!E25","v":19728220},{"$f":"'FY 2016'!F25+'FY 2017'!F25+'FY 2018'!F25+'FY 2019'!F25+'FY 2020'!F25","v":8552800},{"$f":"'FY 2016'!G25+'FY 2017'!G25+'FY 2018'!G25+'FY 2019'!G25+'FY 2020'!G25","v":85528204},{"$f":"'FY 2016'!H25+'FY 2017'!H25+'FY 2018'!H25+'FY 2019'!H25+'FY 2020'!H25","v":9440855},{"$f":"'FY 2016'!I25+'FY 2017'!I25+'FY 2018'!I25+'FY 2019'!I25+'FY 2020'!I25","v":66459820},{"$f":"'FY 2016'!J25+'FY 2017'!J25+'FY 2018'!J25+'FY 2019'!J25+'FY 2020'!J25","v":8408240},{"$f":"'FY 2016'!K25+'FY 2017'!K25+'FY 2018'!K25+'FY 2019'!K25+'FY 2020'!K25","v":45751097},1514865644]
[null,"Illinois",{"$f":"'FY 2016'!C26+'FY 2017'!C26+'FY 2018'!C26+'FY 2019'!C26+'FY 2020'!C26","v":4123876556},{"$f":"'FY 2016'!D26+'FY 2017'!D26+'FY 2018'!D26+'FY 2019'!D26+'FY 2020'!D26","v":1920627025},{"$f":"'FY 2016'!E26+'FY 2017'!E26+'FY 2018'!E26+'FY 2019'!E26+'FY 2020'!E26","v":140251892},{"$f":"'FY 2016'!F26+'FY 2017'!F26+'FY 2018'!F26+'FY 2019'!F26+'FY 2020'!F26","v":7626485},{"$f":"'FY 2016'!G26+'FY 2017'!G26+'FY 2018'!G26+'FY 2019'!G26+'FY 2020'!G26","v":397169878},{"$f":"'FY 2016'!H26+'FY 2017'!H26+'FY 2018'!H26+'FY 2019'!H26+'FY 2020'!H26","v":54903394},{"$f":"'FY 2016'!I26+'FY 2017'!I26+'FY 2018'!I26+'FY 2019'!I26+'FY 2020'!I26","v":571015544},{"$f":"'FY 2016'!J26+'FY 2017'!J26+'FY 2018'!J26+'FY 2019'!J26+'FY 2020'!J26","v":88612583},{"$f":"'FY 2016'!K26+'FY 2017'!K26+'FY 2018'!K26+'FY 2019'!K26+'FY 2020'!K26","v":225960873},7530044230]
[null,"Indiana",{"$f":"'FY 2016'!C27+'FY 2017'!C27+'FY 2018'!C27+'FY 2019'!C27+'FY 2020'!C27","v":2871811259},{"$f":"'FY 2016'!D27+'FY 2017'!D27+'FY 2018'!D27+'FY 2019'!D27+'FY 2020'!D27","v":1320397663},{"$f":"'FY 2016'!E27+'FY 2017'!E27+'FY 2018'!E27+'FY 2019'!E27+'FY 2020'!E27","v":109577683},{"$f":"'FY 2016'!F27+'FY 2017'!F27+'FY 2018'!F27+'FY 2019'!F27+'FY 2020'!F27","v":6008545},{"$f":"'FY 2016'!G27+'FY 2017'!G27+'FY 2018'!G27+'FY 2019'!G27+'FY 2020'!G27","v":275857166},{"$f":"'FY 2016'!H27+'FY 2017'!H27+'FY 2018'!H27+'FY 2019'!H27+'FY 2020'!H27","v":38973030},{"$f":"'FY 2016'!I27+'FY 2017'!I27+'FY 2018'!I27+'FY 2019'!I27+'FY 2020'!I27","v":244368633},{"$f":"'FY 2016'!J27+'FY 2017'!J27+'FY 2018'!J27+'FY 2019'!J27+'FY 2020'!J27","v":27181674},{"$f":"'FY 2016'!K27+'FY 2017'!K27+'FY 2018'!K27+'FY 2019'!K27+'FY 2020'!K27","v":152440729},5046616382]
[null,"Iowa",{"$f":"'FY 2016'!C28+'FY 2017'!C28+'FY 2018'!C28+'FY 2019'!C28+'FY 2020'!C28","v":1526483408},{"$f":"'FY 2016'!D28+'FY 2017'!D28+'FY 2018'!D28+'FY 2019'!D28+'FY 2020'!D28","v":708028829},{"$f":"'FY 2016'!E28+'FY 2017'!E28+'FY 2018'!E28+'FY 2019'!E28+'FY 2020'!E28","v":46567136},{"$f":"'FY 2016'!F28+'FY 2017'!F28+'FY 2018'!F28+'FY 2019'!F28+'FY 2020'!F28","v":6874085},{"$f":"'FY 2016'!G28+'FY 2017'!G28+'FY 2018'!G28+'FY 2019'!G28+'FY 2020'!G28","v":139482074},{"$f":"'FY 2016'!H28+'FY 2017'!H28+'FY 2018'!H28+'FY 2019'!H28+'FY 2020'!H28","v":27867925},{"$f":"'FY 2016'!I28+'FY 2017'!I28+'FY 2018'!I28+'FY 2019'!I28+'FY 2020'!I28","v":58583584},{"$f":"'FY 2016'!J28+'FY 2017'!J28+'FY 2018'!J28+'FY 2019'!J28+'FY 2020'!J28","v":10300997},{"$f":"'FY 2016'!K28+'FY 2017'!K28+'FY 2018'!K28+'FY 2019'!K28+'FY 2020'!K28","v":78741326},2602929364]
[null,"Kansas",{"$f":"'FY 2016'!C29+'FY 2017'!C29+'FY 2018'!C29+'FY 2019'!C29+'FY 2020'!C29","v":1169655487},{"$f":"'FY 2016'!D29+'FY 2017'!D29+'FY 2018'!D29+'FY 2019'!D29+'FY 2020'!D29","v":529893154},{"$f":"'FY 2016'!E29+'FY 2017'!E29+'FY 2018'!E29+'FY 2019'!E29+'FY 2020'!E29","v":46815208},{"$f":"'FY 2016'!F29+'FY 2017'!F29+'FY 2018'!F29+'FY 2019'!F29+'FY 2020'!F29","v":6921250},{"$f":"'FY 2016'!G29+'FY 2017'!G29+'FY 2018'!G29+'FY 2019'!G29+'FY 2020'!G29","v":96395244},{"$f":"'FY 2016'!H29+'FY 2017'!H29+'FY 2018'!H29+'FY 2019'!H29+'FY 2020'!H29","v":31834886},{"$f":"'FY 2016'!I29+'FY 2017'!I29+'FY 2018'!I29+'FY 2019'!I29+'FY 2020'!I29","v":49356983},{"$f":"'FY 2016'!J29+'FY 2017'!J29+'FY 2018'!J29+'FY 2019'!J29+'FY 2020'!J29","v":10115488},{"$f":"'FY 2016'!K29+'FY 2017'!K29+'FY 2018'!K29+'FY 2019'!K29+'FY 2020'!K29","v":60478139},2001465839]
[null,"Kentucky",{"$f":"'FY 2016'!C30+'FY 2017'!C30+'FY 2018'!C30+'FY 2019'!C30+'FY 2020'!C30","v":2069399597},{"$f":"'FY 2016'!D30+'FY 2017'!D30+'FY 2018'!D30+'FY 2019'!D30+'FY 2020'!D30","v":964860478},{"$f":"'FY 2016'!E30+'FY 2017'!E30+'FY 2018'!E30+'FY 2019'!E30+'FY 2020'!E30","v":60095307},{"$f":"'FY 2016'!F30+'FY 2017'!F30+'FY 2018'!F30+'FY 2019'!F30+'FY 2020'!F30","v":7121975},{"$f":"'FY 2016'!G30+'FY 2017'!G30+'FY 2018'!G30+'FY 2019'!G30+'FY 2020'!G30","v":207763160},{"$f":"'FY 2016'!H30+'FY 2017'!H30+'FY 2018'!H30+'FY 2019'!H30+'FY 2020'!H30","v":19107932},{"$f":"'FY 2016'!I30+'FY 2017'!I30+'FY 2018'!I30+'FY 2019'!I30+'FY 2020'!I30","v":71052946},{"$f":"'FY 2016'!J30+'FY 2017'!J30+'FY 2018'!J30+'FY 2019'!J30+'FY 2020'!J30","v":13155793},{"$f":"'FY 2016'!K30+'FY 2017'!K30+'FY 2018'!K30+'FY 2019'!K30+'FY 2020'!K30","v":106478496},3519035684]
[null,"Louisiana",{"$f":"'FY 2016'!C31+'FY 2017'!C31+'FY 2018'!C31+'FY 2019'!C31+'FY 2020'!C31","v":2190747622},{"$f":"'FY 2016'!D31+'FY 2017'!D31+'FY 2018'!D31+'FY 2019'!D31+'FY 2020'!D31","v":1031006011},{"$f":"'FY 2016'!E31+'FY 2017'!E31+'FY 2018'!E31+'FY 2019'!E31+'FY 2020'!E31","v":53818117},{"$f":"'FY 2016'!F31+'FY 2017'!F31+'FY 2018'!F31+'FY 2019'!F31+'FY 2020'!F31","v":7588215},{"$f":"'FY 2016'!G31+'FY 2017'!G31+'FY 2018'!G31+'FY 2019'!G31+'FY 2020'!G31","v":218848636},{"$f":"'FY 2016'!H31+'FY 2017'!H31+'FY 2018'!H31+'FY 2019'!H31+'FY 2020'!H31","v":21326525},{"$f":"'FY 2016'!I31+'FY 2017'!I31+'FY 2018'!I31+'FY 2019'!I31+'FY 2020'!I31","v":59367620},{"$f":"'FY 2016'!J31+'FY 2017'!J31+'FY 2018'!J31+'FY 2019'!J31+'FY 2020'!J31","v":22326957},{"$f":"'FY 2016'!K31+'FY 2017'!K31+'FY 2018'!K31+'FY 2019'!K31+'FY 2020'!K31","v":112213621},3717243324]
[null,"Maine",{"$f":"'FY 2016'!C32+'FY 2017'!C32+'FY 2018'!C32+'FY 2019'!C32+'FY 2020'!C32","v":549831819},{"$f":"'FY 2016'!D32+'FY 2017'!D32+'FY 2018'!D32+'FY 2019'!D32+'FY 2020'!D32","v":257810653},{"$f":"'FY 2016'!E32+'FY 2017'!E32+'FY 2018'!E32+'FY 2019'!E32+'FY 2020'!E32","v":10167646},{"$f":"'FY 2016'!F32+'FY 2017'!F32+'FY 2018'!F32+'FY 2019'!F32+'FY 2020'!F32","v":7213705},{"$f":"'FY 2016'!G32+'FY 2017'!G32+'FY 2018'!G32+'FY 2019'!G32+'FY 2020'!G32","v":53693191},{"$f":"'FY 2016'!H32+'FY 2017'!H32+'FY 2018'!H32+'FY 2019'!H32+'FY 2020'!H32","v":6582903},{"$f":"'FY 2016'!I32+'FY 2017'!I32+'FY 2018'!I32+'FY 2019'!I32+'FY 2020'!I32","v":53406737},{"$f":"'FY 2016'!J32+'FY 2017'!J32+'FY 2018'!J32+'FY 2019'!J32+'FY 2020'!J32","v":9566644},{"$f":"'FY 2016'!K32+'FY 2017'!K32+'FY 2018'!K32+'FY 2019'!K32+'FY 2020'!K32","v":29398243},977671541]
[null,"Maryland",{"$f":"'FY 2016'!C33+'FY 2017'!C33+'FY 2018'!C33+'FY 2019'!C33+'FY 2020'!C33","v":1720287778},{"$f":"'FY 2016'!D33+'FY 2017'!D33+'FY 2018'!D33+'FY 2019'!D33+'FY 2020'!D33","v":801532358},{"$f":"'FY 2016'!E33+'FY 2017'!E33+'FY 2018'!E33+'FY 2019'!E33+'FY 2020'!E33","v":56680701},{"$f":"'FY 2016'!F33+'FY 2017'!F33+'FY 2018'!F33+'FY 2019'!F33+'FY 2020'!F33","v":5618100},{"$f":"'FY 2016'!G33+'FY 2017'!G33+'FY 2018'!G33+'FY 2019'!G33+'FY 2020'!G33","v":176329080},{"$f":"'FY 2016'!H33+'FY 2017'!H33+'FY 2018'!H33+'FY 2019'!H33+'FY 2020'!H33","v":12252028},{"$f":"'FY 2016'!I33+'FY 2017'!I33+'FY 2018'!I33+'FY 2019'!I33+'FY 2020'!I33","v":278496367},{"$f":"'FY 2016'!J33+'FY 2017'!J33+'FY 2018'!J33+'FY 2019'!J33+'FY 2020'!J33","v":36012403},{"$f":"'FY 2016'!K33+'FY 2017'!K33+'FY 2018'!K33+'FY 2019'!K33+'FY 2020'!K33","v":95552765},3182761580]
[null,"Massachusetts",{"$f":"'FY 2016'!C34+'FY 2017'!C34+'FY 2018'!C34+'FY 2019'!C34+'FY 2020'!C34","v":1702044620},{"$f":"'FY 2016'!D34+'FY 2017'!D34+'FY 2018'!D34+'FY 2019'!D34+'FY 2020'!D34","v":795871003},{"$f":"'FY 2016'!E34+'FY 2017'!E34+'FY 2018'!E34+'FY 2019'!E34+'FY 2020'!E34","v":54408841},{"$f":"'FY 2016'!F34+'FY 2017'!F34+'FY 2018'!F34+'FY 2019'!F34+'FY 2020'!F34","v":5933645},{"$f":"'FY 2016'!G34+'FY 2017'!G34+'FY 2018'!G34+'FY 2019'!G34+'FY 2020'!G34","v":173661471},{"$f":"'FY 2016'!H34+'FY 2017'!H34+'FY 2018'!H34+'FY 2019'!H34+'FY 2020'!H34","v":12915481},{"$f":"'FY 2016'!I34+'FY 2017'!I34+'FY 2018'!I34+'FY 2019'!I34+'FY 2020'!I34","v":328935103},{"$f":"'FY 2016'!J34+'FY 2017'!J34+'FY 2018'!J34+'FY 2019'!J34+'FY 2020'!J34","v":46682210},{"$f":"'FY 2016'!K34+'FY 2017'!K34+'FY 2018'!K34+'FY 2019'!K34+'FY 2020'!K34","v":96251660},3216704034]
[null,"Michigan",{"$f":"'FY 2016'!C35+'FY 2017'!C35+'FY 2018'!C35+'FY 2019'!C35+'FY 2020'!C35","v":3086113481},{"$f":"'FY 2016'!D35+'FY 2017'!D35+'FY 2018'!D35+'FY 2019'!D35+'FY 2020'!D35","v":1410826586},{"$f":"'FY 2016'!E35+'FY 2017'!E35+'FY 2018'!E35+'FY 2019'!E35+'FY 2020'!E35","v":121535796},{"$f":"'FY 2016'!F35+'FY 2017'!F35+'FY 2018'!F35+'FY 2019'!F35+'FY 2020'!F35","v":14269775},{"$f":"'FY 2016'!G35+'FY 2017'!G35+'FY 2018'!G35+'FY 2019'!G35+'FY 2020'!G35","v":298166762},{"$f":"'FY 2016'!H35+'FY 2017'!H35+'FY 2018'!H35+'FY 2019'!H35+'FY 2020'!H35","v":40147155},{"$f":"'FY 2016'!I35+'FY 2017'!I35+'FY 2018'!I35+'FY 2019'!I35+'FY 2020'!I35","v":383836647},{"$f":"'FY 2016'!J35+'FY 2017'!J35+'FY 2018'!J35+'FY 2019'!J35+'FY 2020'!J35","v":53778384},{"$f":"'FY 2016'!K35+'FY 2017'!K35+'FY 2018'!K35+'FY 2019'!K35+'FY 2020'!K35","v":167704024},5576378610]
[null,"Minnesota",{"$f":"'FY 2016'!C36+'FY 2017'!C36+'FY 2018'!C36+'FY 2019'!C36+'FY 2020'!C36","v":1962199235},{"$f":"'FY 2016'!D36+'FY 2017'!D36+'FY 2018'!D36+'FY 2019'!D36+'FY 2020'!D36","v":895343991},{"$f":"'FY 2016'!E36+'FY 2017'!E36+'FY 2018'!E36+'FY 2019'!E36+'FY 2020'!E36","v":73853714},{"$f":"'FY 2016'!F36+'FY 2017'!F36+'FY 2018'!F36+'FY 2019'!F36+'FY 2020'!F36","v":12080240},{"$f":"'FY 2016'!G36+'FY 2017'!G36+'FY 2018'!G36+'FY 2019'!G36+'FY 2020'!G36","v":183424213},{"$f":"'FY 2016'!H36+'FY 2017'!H36+'FY 2018'!H36+'FY 2019'!H36+'FY 2020'!H36","v":31686920},{"$f":"'FY 2016'!I36+'FY 2017'!I36+'FY 2018'!I36+'FY 2019'!I36+'FY 2020'!I36","v":167142445},{"$f":"'FY 2016'!J36+'FY 2017'!J36+'FY 2018'!J36+'FY 2019'!J36+'FY 2020'!J36","v":23745210},{"$f":"'FY 2016'!K36+'FY 2017'!K36+'FY 2018'!K36+'FY 2019'!K36+'FY 2020'!K36","v":104162389},3453638357]
[null,"Mississippi",{"$f":"'FY 2016'!C37+'FY 2017'!C37+'FY 2018'!C37+'FY 2019'!C37+'FY 2020'!C37","v":1502678157},{"$f":"'FY 2016'!D37+'FY 2017'!D37+'FY 2018'!D37+'FY 2019'!D37+'FY 2020'!D37","v":694934335},{"$f":"'FY 2016'!E37+'FY 2017'!E37+'FY 2018'!E37+'FY 2019'!E37+'FY 2020'!E37","v":47833049},{"$f":"'FY 2016'!F37+'FY 2017'!F37+'FY 2018'!F37+'FY 2019'!F37+'FY 2020'!F37","v":6809620},{"$f":"'FY 2016'!G37+'FY 2017'!G37+'FY 2018'!G37+'FY 2019'!G37+'FY 2020'!G37","v":146668877},{"$f":"'FY 2016'!H37+'FY 2017'!H37+'FY 2018'!H37+'FY 2019'!H37+'FY 2020'!H37","v":18071378},{"$f":"'FY 2016'!I37+'FY 2017'!I37+'FY 2018'!I37+'FY 2019'!I37+'FY 2020'!I37","v":58188668},{"$f":"'FY 2016'!J37+'FY 2017'!J37+'FY 2018'!J37+'FY 2019'!J37+'FY 2020'!J37","v":8831084},{"$f":"'FY 2016'!K37+'FY 2017'!K37+'FY 2018'!K37+'FY 2019'!K37+'FY 2020'!K37","v":77530046},2561545214]
[null,"Missouri",{"$f":"'FY 2016'!C38+'FY 2017'!C38+'FY 2018'!C38+'FY 2019'!C38+'FY 2020'!C38","v":2930021224},{"$f":"'FY 2016'!D38+'FY 2017'!D38+'FY 2018'!D38+'FY 2019'!D38+'FY 2020'!D38","v":1361232668},{"$f":"'FY 2016'!E38+'FY 2017'!E38+'FY 2018'!E38+'FY 2019'!E38+'FY 2020'!E38","v":92464802},{"$f":"'FY 2016'!F38+'FY 2017'!F38+'FY 2018'!F38+'FY 2019'!F38+'FY 2020'!F38","v":8316995},{"$f":"'FY 2016'!G38+'FY 2017'!G38+'FY 2018'!G38+'FY 2019'!G38+'FY 2020'!G38","v":291937491},{"$f":"'FY 2016'!H38+'FY 2017'!H38+'FY 2018'!H38+'FY 2019'!H38+'FY 2020'!H38","v":29282725},{"$f":"'FY 2016'!I38+'FY 2017'!I38+'FY 2018'!I38+'FY 2019'!I38+'FY 2020'!I38","v":122254691},{"$f":"'FY 2016'!J38+'FY 2017'!J38+'FY 2018'!J38+'FY 2019'!J38+'FY 2020'!J38","v":26993513},{"$f":"'FY 2016'!K38+'FY 2017'!K38+'FY 2018'!K38+'FY 2019'!K38+'FY 2020'!K38","v":151454999},5013959108]
[null,"Montana",{"$f":"'FY 2016'!C39+'FY 2017'!C39+'FY 2018'!C39+'FY 2019'!C39+'FY 2020'!C39","v":1255899859},{"$f":"'FY 2016'!D39+'FY 2017'!D39+'FY 2018'!D39+'FY 2019'!D39+'FY 2020'!D39","v":596885189},{"$f":"'FY 2016'!E39+'FY 2017'!E39+'FY 2018'!E39+'FY 2019'!E39+'FY 2020'!E39","v":22292144},{"$f":"'FY 2016'!F39+'FY 2017'!F39+'FY 2018'!F39+'FY 2019'!F39+'FY 2020'!F39","v":8033525},{"$f":"'FY 2016'!G39+'FY 2017'!G39+'FY 2018'!G39+'FY 2019'!G39+'FY 2020'!G39","v":127751982},{"$f":"'FY 2016'!H39+'FY 2017'!H39+'FY 2018'!H39+'FY 2019'!H39+'FY 2020'!H39","v":9931647},{"$f":"'FY 2016'!I39+'FY 2017'!I39+'FY 2018'!I39+'FY 2019'!I39+'FY 2020'!I39","v":77214136},{"$f":"'FY 2016'!J39+'FY 2017'!J39+'FY 2018'!J39+'FY 2019'!J39+'FY 2020'!J39","v":9336478},{"$f":"'FY 2016'!K39+'FY 2017'!K39+'FY 2018'!K39+'FY 2019'!K39+'FY 2020'!K39","v":65714307},2173059267]
[null,"Nebraska",{"$f":"'FY 2016'!C40+'FY 2017'!C40+'FY 2018'!C40+'FY 2019'!C40+'FY 2020'!C40","v":884154786},{"$f":"'FY 2016'!D40+'FY 2017'!D40+'FY 2018'!D40+'FY 2019'!D40+'FY 2020'!D40","v":406738554},{"$f":"'FY 2016'!E40+'FY 2017'!E40+'FY 2018'!E40+'FY 2019'!E40+'FY 2020'!E40","v":28754988},{"$f":"'FY 2016'!F40+'FY 2017'!F40+'FY 2018'!F40+'FY 2019'!F40+'FY 2020'!F40","v":6086935},{"$f":"'FY 2016'!G40+'FY 2017'!G40+'FY 2018'!G40+'FY 2019'!G40+'FY 2020'!G40","v":77788335},{"$f":"'FY 2016'!H40+'FY 2017'!H40+'FY 2018'!H40+'FY 2019'!H40+'FY 2020'!H40","v":19141020},{"$f":"'FY 2016'!I40+'FY 2017'!I40+'FY 2018'!I40+'FY 2019'!I40+'FY 2020'!I40","v":53359463},{"$f":"'FY 2016'!J40+'FY 2017'!J40+'FY 2018'!J40+'FY 2019'!J40+'FY 2020'!J40","v":8607293},{"$f":"'FY 2016'!K40+'FY 2017'!K40+'FY 2018'!K40+'FY 2019'!K40+'FY 2020'!K40","v":46230825},1530862199]
[null,"Nevada",{"$f":"'FY 2016'!C41+'FY 2017'!C41+'FY 2018'!C41+'FY 2019'!C41+'FY 2020'!C41","v":1041993321},{"$f":"'FY 2016'!D41+'FY 2017'!D41+'FY 2018'!D41+'FY 2019'!D41+'FY 2020'!D41","v":490970097},{"$f":"'FY 2016'!E41+'FY 2017'!E41+'FY 2018'!E41+'FY 2019'!E41+'FY 2020'!E41","v":25364784},{"$f":"'FY 2016'!F41+'FY 2017'!F41+'FY 2018'!F41+'FY 2019'!F41+'FY 2020'!F41","v":6789750},{"$f":"'FY 2016'!G41+'FY 2017'!G41+'FY 2018'!G41+'FY 2019'!G41+'FY 2020'!G41","v":108350519},{"$f":"'FY 2016'!H41+'FY 2017'!H41+'FY 2018'!H41+'FY 2019'!H41+'FY 2020'!H41","v":5875000},{"$f":"'FY 2016'!I41+'FY 2017'!I41+'FY 2018'!I41+'FY 2019'!I41+'FY 2020'!I41","v":168924348},{"$f":"'FY 2016'!J41+'FY 2017'!J41+'FY 2018'!J41+'FY 2019'!J41+'FY 2020'!J41","v":17047817},{"$f":"'FY 2016'!K41+'FY 2017'!K41+'FY 2018'!K41+'FY 2019'!K41+'FY 2020'!K41","v":57884877},1923200513]
[null,"New Hampshire",{"$f":"'FY 2016'!C42+'FY 2017'!C42+'FY 2018'!C42+'FY 2019'!C42+'FY 2020'!C42","v":488611388},{"$f":"'FY 2016'!D42+'FY 2017'!D42+'FY 2018'!D42+'FY 2019'!D42+'FY 2020'!D42","v":225027009},{"$f":"'FY 2016'!E42+'FY 2017'!E42+'FY 2018'!E42+'FY 2019'!E42+'FY 2020'!E42","v":13327163},{"$f":"'FY 2016'!F42+'FY 2017'!F42+'FY 2018'!F42+'FY 2019'!F42+'FY 2020'!F42","v":6339720},{"$f":"'FY 2016'!G42+'FY 2017'!G42+'FY 2018'!G42+'FY 2019'!G42+'FY 2020'!G42","v":47689319},{"$f":"'FY 2016'!H42+'FY 2017'!H42+'FY 2018'!H42+'FY 2019'!H42+'FY 2020'!H42","v":5875000},{"$f":"'FY 2016'!I42+'FY 2017'!I42+'FY 2018'!I42+'FY 2019'!I42+'FY 2020'!I42","v":53676922},{"$f":"'FY 2016'!J42+'FY 2017'!J42+'FY 2018'!J42+'FY 2019'!J42+'FY 2020'!J42","v":8209724},{"$f":"'FY 2016'!K42+'FY 2017'!K42+'FY 2018'!K42+'FY 2019'!K42+'FY 2020'!K42","v":26324334},875080579]
[null,"New Jersey",{"$f":"'FY 2016'!C43+'FY 2017'!C43+'FY 2018'!C43+'FY 2019'!C43+'FY 2020'!C43","v":2806132562},{"$f":"'FY 2016'!D43+'FY 2017'!D43+'FY 2018'!D43+'FY 2019'!D43+'FY 2020'!D43","v":1319668095},{"$f":"'FY 2016'!E43+'FY 2017'!E43+'FY 2018'!E43+'FY 2019'!E43+'FY 2020'!E43","v":85477526},{"$f":"'FY 2016'!F43+'FY 2017'!F43+'FY 2018'!F43+'FY 2019'!F43+'FY 2020'!F43","v":6133785},{"$f":"'FY 2016'!G43+'FY 2017'!G43+'FY 2018'!G43+'FY 2019'!G43+'FY 2020'!G43","v":288160588},{"$f":"'FY 2016'!H43+'FY 2017'!H43+'FY 2018'!H43+'FY 2019'!H43+'FY 2020'!H43","v":19446681},{"$f":"'FY 2016'!I43+'FY 2017'!I43+'FY 2018'!I43+'FY 2019'!I43+'FY 2020'!I43","v":539887810},{"$f":"'FY 2016'!J43+'FY 2017'!J43+'FY 2018'!J43+'FY 2019'!J43+'FY 2020'!J43","v":64650906},{"$f":"'FY 2016'!K43+'FY 2017'!K43+'FY 2018'!K43+'FY 2019'!K43+'FY 2020'!K43","v":158611189},5288169142]
[null,"New Mexico",{"$f":"'FY 2016'!C44+'FY 2017'!C44+'FY 2018'!C44+'FY 2019'!C44+'FY 2020'!C44","v":1130385201},{"$f":"'FY 2016'!D44+'FY 2017'!D44+'FY 2018'!D44+'FY 2019'!D44+'FY 2020'!D44","v":526604737},{"$f":"'FY 2016'!E44+'FY 2017'!E44+'FY 2018'!E44+'FY 2019'!E44+'FY 2020'!E44","v":30524463},{"$f":"'FY 2016'!F44+'FY 2017'!F44+'FY 2018'!F44+'FY 2019'!F44+'FY 2020'!F44","v":7149155},{"$f":"'FY 2016'!G44+'FY 2017'!G44+'FY 2018'!G44+'FY 2019'!G44+'FY 2020'!G44","v":115497479},{"$f":"'FY 2016'!H44+'FY 2017'!H44+'FY 2018'!H44+'FY 2019'!H44+'FY 2020'!H44","v":8426741},{"$f":"'FY 2016'!I44+'FY 2017'!I44+'FY 2018'!I44+'FY 2019'!I44+'FY 2020'!I44","v":59194902},{"$f":"'FY 2016'!J44+'FY 2017'!J44+'FY 2018'!J44+'FY 2019'!J44+'FY 2020'!J44","v":8358885},{"$f":"'FY 2016'!K44+'FY 2017'!K44+'FY 2018'!K44+'FY 2019'!K44+'FY 2020'!K44","v":58816373},1944957936]
[null,"New York",{"$f":"'FY 2016'!C45+'FY 2017'!C45+'FY 2018'!C45+'FY 2019'!C45+'FY 2020'!C45","v":4677462506},{"$f":"'FY 2016'!D45+'FY 2017'!D45+'FY 2018'!D45+'FY 2019'!D45+'FY 2020'!D45","v":2207697185},{"$f":"'FY 2016'!E45+'FY 2017'!E45+'FY 2018'!E45+'FY 2019'!E45+'FY 2020'!E45","v":135421899},{"$f":"'FY 2016'!F45+'FY 2017'!F45+'FY 2018'!F45+'FY 2019'!F45+'FY 2020'!F45","v":11022780},{"$f":"'FY 2016'!G45+'FY 2017'!G45+'FY 2018'!G45+'FY 2019'!G45+'FY 2020'!G45","v":480086376},{"$f":"'FY 2016'!H45+'FY 2017'!H45+'FY 2018'!H45+'FY 2019'!H45+'FY 2020'!H45","v":32650619},{"$f":"'FY 2016'!I45+'FY 2017'!I45+'FY 2018'!I45+'FY 2019'!I45+'FY 2020'!I45","v":950148294},{"$f":"'FY 2016'!J45+'FY 2017'!J45+'FY 2018'!J45+'FY 2019'!J45+'FY 2020'!J45","v":129690662},{"$f":"'FY 2016'!K45+'FY 2017'!K45+'FY 2018'!K45+'FY 2019'!K45+'FY 2020'!K45","v":265994763},8890175084]
[null,"North Carolina",{"$f":"'FY 2016'!C46+'FY 2017'!C46+'FY 2018'!C46+'FY 2019'!C46+'FY 2020'!C46","v":3144133283},{"$f":"'FY 2016'!D46+'FY 2017'!D46+'FY 2018'!D46+'FY 2019'!D46+'FY 2020'!D46","v":1452032821},{"$f":"'FY 2016'!E46+'FY 2017'!E46+'FY 2018'!E46+'FY 2019'!E46+'FY 2020'!E46","v":112020820},{"$f":"'FY 2016'!F46+'FY 2017'!F46+'FY 2018'!F46+'FY 2019'!F46+'FY 2020'!F46","v":8067800},{"$f":"'FY 2016'!G46+'FY 2017'!G46+'FY 2018'!G46+'FY 2019'!G46+'FY 2020'!G46","v":310584885},{"$f":"'FY 2016'!H46+'FY 2017'!H46+'FY 2018'!H46+'FY 2019'!H46+'FY 2020'!H46","v":34099450},{"$f":"'FY 2016'!I46+'FY 2017'!I46+'FY 2018'!I46+'FY 2019'!I46+'FY 2020'!I46","v":265823391},{"$f":"'FY 2016'!J46+'FY 2017'!J46+'FY 2018'!J46+'FY 2019'!J46+'FY 2020'!J46","v":30207918},{"$f":"'FY 2016'!K46+'FY 2017'!K46+'FY 2018'!K46+'FY 2019'!K46+'FY 2020'!K46","v":166840945},5523811313]
[null,"North Dakota",{"$f":"'FY 2016'!C47+'FY 2017'!C47+'FY 2018'!C47+'FY 2019'!C47+'FY 2020'!C47","v":753047236},{"$f":"'FY 2016'!D47+'FY 2017'!D47+'FY 2018'!D47+'FY 2019'!D47+'FY 2020'!D47","v":354251121},{"$f":"'FY 2016'!E47+'FY 2017'!E47+'FY 2018'!E47+'FY 2019'!E47+'FY 2020'!E47","v":16441719},{"$f":"'FY 2016'!F47+'FY 2017'!F47+'FY 2018'!F47+'FY 2019'!F47+'FY 2020'!F47","v":5659405},{"$f":"'FY 2016'!G47+'FY 2017'!G47+'FY 2018'!G47+'FY 2019'!G47+'FY 2020'!G47","v":62844994},{"$f":"'FY 2016'!H47+'FY 2017'!H47+'FY 2018'!H47+'FY 2019'!H47+'FY 2020'!H47","v":19710413},{"$f":"'FY 2016'!I47+'FY 2017'!I47+'FY 2018'!I47+'FY 2019'!I47+'FY 2020'!I47","v":54564460},{"$f":"'FY 2016'!J47+'FY 2017'!J47+'FY 2018'!J47+'FY 2019'!J47+'FY 2020'!J47","v":8719304},{"$f":"'FY 2016'!K47+'FY 2017'!K47+'FY 2018'!K47+'FY 2019'!K47+'FY 2020'!K47","v":39667849},1314906501]
[null,"Ohio",{"$f":"'FY 2016'!C48+'FY 2017'!C48+'FY 2018'!C48+'FY 2019'!C48+'FY 2020'!C48","v":3928985930},{"$f":"'FY 2016'!D48+'FY 2017'!D48+'FY 2018'!D48+'FY 2019'!D48+'FY 2020'!D48","v":1824957754},{"$f":"'FY 2016'!E48+'FY 2017'!E48+'FY 2018'!E48+'FY 2019'!E48+'FY 2020'!E48","v":135726256},{"$f":"'FY 2016'!F48+'FY 2017'!F48+'FY 2018'!F48+'FY 2019'!F48+'FY 2020'!F48","v":8359255},{"$f":"'FY 2016'!G48+'FY 2017'!G48+'FY 2018'!G48+'FY 2019'!G48+'FY 2020'!G48","v":385043377},{"$f":"'FY 2016'!H48+'FY 2017'!H48+'FY 2018'!H48+'FY 2019'!H48+'FY 2020'!H48","v":45670089},{"$f":"'FY 2016'!I48+'FY 2017'!I48+'FY 2018'!I48+'FY 2019'!I48+'FY 2020'!I48","v":496650436},{"$f":"'FY 2016'!J48+'FY 2017'!J48+'FY 2018'!J48+'FY 2019'!J48+'FY 2020'!J48","v":60159150},{"$f":"'FY 2016'!K48+'FY 2017'!K48+'FY 2018'!K48+'FY 2019'!K48+'FY 2020'!K48","v":213763215},7099315462]
[null,"Oklahoma",{"$f":"'FY 2016'!C49+'FY 2017'!C49+'FY 2018'!C49+'FY 2019'!C49+'FY 2020'!C49","v":1979115272},{"$f":"'FY 2016'!D49+'FY 2017'!D49+'FY 2018'!D49+'FY 2019'!D49+'FY 2020'!D49","v":913387352},{"$f":"'FY 2016'!E49+'FY 2017'!E49+'FY 2018'!E49+'FY 2019'!E49+'FY 2020'!E49","v":64578848},{"$f":"'FY 2016'!F49+'FY 2017'!F49+'FY 2018'!F49+'FY 2019'!F49+'FY 2020'!F49","v":8935415},{"$f":"'FY 2016'!G49+'FY 2017'!G49+'FY 2018'!G49+'FY 2019'!G49+'FY 2020'!G49","v":189178013},{"$f":"'FY 2016'!H49+'FY 2017'!H49+'FY 2018'!H49+'FY 2019'!H49+'FY 2020'!H49","v":27795502},{"$f":"'FY 2016'!I49+'FY 2017'!I49+'FY 2018'!I49+'FY 2019'!I49+'FY 2020'!I49","v":60969525},{"$f":"'FY 2016'!J49+'FY 2017'!J49+'FY 2018'!J49+'FY 2019'!J49+'FY 2020'!J49","v":13427750},{"$f":"'FY 2016'!K49+'FY 2017'!K49+'FY 2018'!K49+'FY 2019'!K49+'FY 2020'!K49","v":101609004},3358996681]
[null,"Oregon",{"$f":"'FY 2016'!C50+'FY 2017'!C50+'FY 2018'!C50+'FY 2019'!C50+'FY 2020'!C50","v":1521199507},{"$f":"'FY 2016'!D50+'FY 2017'!D50+'FY 2018'!D50+'FY 2019'!D50+'FY 2020'!D50","v":713261770},{"$f":"'FY 2016'!E50+'FY 2017'!E50+'FY 2018'!E50+'FY 2019'!E50+'FY 2020'!E50","v":38737565},{"$f":"'FY 2016'!F50+'FY 2017'!F50+'FY 2018'!F50+'FY 2019'!F50+'FY 2020'!F50","v":8050765},{"$f":"'FY 2016'!G50+'FY 2017'!G50+'FY 2018'!G50+'FY 2019'!G50+'FY 2020'!G50","v":151414631},{"$f":"'FY 2016'!H50+'FY 2017'!H50+'FY 2018'!H50+'FY 2019'!H50+'FY 2020'!H50","v":15352693},{"$f":"'FY 2016'!I50+'FY 2017'!I50+'FY 2018'!I50+'FY 2019'!I50+'FY 2020'!I50","v":100622605},{"$f":"'FY 2016'!J50+'FY 2017'!J50+'FY 2018'!J50+'FY 2019'!J50+'FY 2020'!J50","v":18798716},{"$f":"'FY 2016'!K50+'FY 2017'!K50+'FY 2018'!K50+'FY 2019'!K50+'FY 2020'!K50","v":79823401},2647261653]
[null,"Pennsylvania",{"$f":"'FY 2016'!C51+'FY 2017'!C51+'FY 2018'!C51+'FY 2019'!C51+'FY 2020'!C51","v":4855148248},{"$f":"'FY 2016'!D51+'FY 2017'!D51+'FY 2018'!D51+'FY 2019'!D51+'FY 2020'!D51","v":2289554983},{"$f":"'FY 2016'!E51+'FY 2017'!E51+'FY 2018'!E51+'FY 2019'!E51+'FY 2020'!E51","v":131796500},{"$f":"'FY 2016'!F51+'FY 2017'!F51+'FY 2018'!F51+'FY 2019'!F51+'FY 2020'!F51","v":9956330},{"$f":"'FY 2016'!G51+'FY 2017'!G51+'FY 2018'!G51+'FY 2019'!G51+'FY 2020'!G51","v":497738628},{"$f":"'FY 2016'!H51+'FY 2017'!H51+'FY 2018'!H51+'FY 2019'!H51+'FY 2020'!H51","v":34510276},{"$f":"'FY 2016'!I51+'FY 2017'!I51+'FY 2018'!I51+'FY 2019'!I51+'FY 2020'!I51","v":542002878},{"$f":"'FY 2016'!J51+'FY 2017'!J51+'FY 2018'!J51+'FY 2019'!J51+'FY 2020'!J51","v":67361097},{"$f":"'FY 2016'!K51+'FY 2017'!K51+'FY 2018'!K51+'FY 2019'!K51+'FY 2020'!K51","v":261852454},8689921394]
[null,"Rhode Island",{"$f":"'FY 2016'!C52+'FY 2017'!C52+'FY 2018'!C52+'FY 2019'!C52+'FY 2020'!C52","v":658302206},{"$f":"'FY 2016'!D52+'FY 2017'!D52+'FY 2018'!D52+'FY 2019'!D52+'FY 2020'!D52","v":312863154},{"$f":"'FY 2016'!E52+'FY 2017'!E52+'FY 2018'!E52+'FY 2019'!E52+'FY 2020'!E52","v":12014144},{"$f":"'FY 2016'!F52+'FY 2017'!F52+'FY 2018'!F52+'FY 2019'!F52+'FY 2020'!F52","v":4325170},{"$f":"'FY 2016'!G52+'FY 2017'!G52+'FY 2018'!G52+'FY 2019'!G52+'FY 2020'!G52","v":66293092},{"$f":"'FY 2016'!H52+'FY 2017'!H52+'FY 2018'!H52+'FY 2019'!H52+'FY 2020'!H52","v":5875000},{"$f":"'FY 2016'!I52+'FY 2017'!I52+'FY 2018'!I52+'FY 2019'!I52+'FY 2020'!I52","v":54097893},{"$f":"'FY 2016'!J52+'FY 2017'!J52+'FY 2018'!J52+'FY 2019'!J52+'FY 2020'!J52","v":9644009},{"$f":"'FY 2016'!K52+'FY 2017'!K52+'FY 2018'!K52+'FY 2019'!K52+'FY 2020'!K52","v":34882187},1158296855]
[null,"South Carolina",{"$f":"'FY 2016'!C53+'FY 2017'!C53+'FY 2018'!C53+'FY 2019'!C53+'FY 2020'!C53","v":2086003038},{"$f":"'FY 2016'!D53+'FY 2017'!D53+'FY 2018'!D53+'FY 2019'!D53+'FY 2020'!D53","v":959077862},{"$f":"'FY 2016'!E53+'FY 2017'!E53+'FY 2018'!E53+'FY 2019'!E53+'FY 2020'!E53","v":75208107},{"$f":"'FY 2016'!F53+'FY 2017'!F53+'FY 2018'!F53+'FY 2019'!F53+'FY 2020'!F53","v":6056100},{"$f":"'FY 2016'!G53+'FY 2017'!G53+'FY 2018'!G53+'FY 2019'!G53+'FY 2020'!G53","v":206278685},{"$f":"'FY 2016'!H53+'FY 2017'!H53+'FY 2018'!H53+'FY 2019'!H53+'FY 2020'!H53","v":22412713},{"$f":"'FY 2016'!I53+'FY 2017'!I53+'FY 2018'!I53+'FY 2019'!I53+'FY 2020'!I53","v":67942582},{"$f":"'FY 2016'!J53+'FY 2017'!J53+'FY 2018'!J53+'FY 2019'!J53+'FY 2020'!J53","v":16357904},{"$f":"'FY 2016'!K53+'FY 2017'!K53+'FY 2018'!K53+'FY 2019'!K53+'FY 2020'!K53","v":107214664},3546551655]
[null,"South Dakota",{"$f":"'FY 2016'!C54+'FY 2017'!C54+'FY 2018'!C54+'FY 2019'!C54+'FY 2020'!C54","v":854802691},{"$f":"'FY 2016'!D54+'FY 2017'!D54+'FY 2018'!D54+'FY 2019'!D54+'FY 2020'!D54","v":399820770},{"$f":"'FY 2016'!E54+'FY 2017'!E54+'FY 2018'!E54+'FY 2019'!E54+'FY 2020'!E54","v":21723862},{"$f":"'FY 2016'!F54+'FY 2017'!F54+'FY 2018'!F54+'FY 2019'!F54+'FY 2020'!F54","v":5685965},{"$f":"'FY 2016'!G54+'FY 2017'!G54+'FY 2018'!G54+'FY 2019'!G54+'FY 2020'!G54","v":81332795},{"$f":"'FY 2016'!H54+'FY 2017'!H54+'FY 2018'!H54+'FY 2019'!H54+'FY 2020'!H54","v":12377837},{"$f":"'FY 2016'!I54+'FY 2017'!I54+'FY 2018'!I54+'FY 2019'!I54+'FY 2020'!I54","v":63623418},{"$f":"'FY 2016'!J54+'FY 2017'!J54+'FY 2018'!J54+'FY 2019'!J54+'FY 2020'!J54","v":9177110},{"$f":"'FY 2016'!K54+'FY 2017'!K54+'FY 2018'!K54+'FY 2019'!K54+'FY 2020'!K54","v":45082063},1493626511]
[null,"Tennessee",{"$f":"'FY 2016'!C55+'FY 2017'!C55+'FY 2018'!C55+'FY 2019'!C55+'FY 2020'!C55","v":2561993534},{"$f":"'FY 2016'!D55+'FY 2017'!D55+'FY 2018'!D55+'FY 2019'!D55+'FY 2020'!D55","v":1185914351},{"$f":"'FY 2016'!E55+'FY 2017'!E55+'FY 2018'!E55+'FY 2019'!E55+'FY 2020'!E55","v":86342787},{"$f":"'FY 2016'!F55+'FY 2017'!F55+'FY 2018'!F55+'FY 2019'!F55+'FY 2020'!F55","v":8203065},{"$f":"'FY 2016'!G55+'FY 2017'!G55+'FY 2018'!G55+'FY 2019'!G55+'FY 2020'!G55","v":255862973},{"$f":"'FY 2016'!H55+'FY 2017'!H55+'FY 2018'!H55+'FY 2019'!H55+'FY 2020'!H55","v":25004299},{"$f":"'FY 2016'!I55+'FY 2017'!I55+'FY 2018'!I55+'FY 2019'!I55+'FY 2020'!I55","v":192121822},{"$f":"'FY 2016'!J55+'FY 2017'!J55+'FY 2018'!J55+'FY 2019'!J55+'FY 2020'!J55","v":24964842},{"$f":"'FY 2016'!K55+'FY 2017'!K55+'FY 2018'!K55+'FY 2019'!K55+'FY 2020'!K55","v":135164833},4475572506]
[null,"Texas",{"$f":"'FY 2016'!C56+'FY 2017'!C56+'FY 2018'!C56+'FY 2019'!C56+'FY 2020'!C56","v":10405747969},{"$f":"'FY 2016'!D56+'FY 2017'!D56+'FY 2018'!D56+'FY 2019'!D56+'FY 2020'!D56","v":4796861080},{"$f":"'FY 2016'!E56+'FY 2017'!E56+'FY 2018'!E56+'FY 2019'!E56+'FY 2020'!E56","v":386229769},{"$f":"'FY 2016'!F56+'FY 2017'!F56+'FY 2018'!F56+'FY 2019'!F56+'FY 2020'!F56","v":19974110},{"$f":"'FY 2016'!G56+'FY 2017'!G56+'FY 2018'!G56+'FY 2019'!G56+'FY 2020'!G56","v":1045444157},{"$f":"'FY 2016'!H56+'FY 2017'!H56+'FY 2018'!H56+'FY 2019'!H56+'FY 2020'!H56","v":95314806},{"$f":"'FY 2016'!I56+'FY 2017'!I56+'FY 2018'!I56+'FY 2019'!I56+'FY 2020'!I56","v":853873808},{"$f":"'FY 2016'!J56+'FY 2017'!J56+'FY 2018'!J56+'FY 2019'!J56+'FY 2020'!J56","v":127107637},{"$f":"'FY 2016'!K56+'FY 2017'!K56+'FY 2018'!K56+'FY 2019'!K56+'FY 2020'!K56","v":551341597},18281894933]
[null,"Utah",{"$f":"'FY 2016'!C57+'FY 2017'!C57+'FY 2018'!C57+'FY 2019'!C57+'FY 2020'!C57","v":1056323551},{"$f":"'FY 2016'!D57+'FY 2017'!D57+'FY 2018'!D57+'FY 2019'!D57+'FY 2020'!D57","v":494290615},{"$f":"'FY 2016'!E57+'FY 2017'!E57+'FY 2018'!E57+'FY 2019'!E57+'FY 2020'!E57","v":25699346},{"$f":"'FY 2016'!F57+'FY 2017'!F57+'FY 2018'!F57+'FY 2019'!F57+'FY 2020'!F57","v":7809260},{"$f":"'FY 2016'!G57+'FY 2017'!G57+'FY 2018'!G57+'FY 2019'!G57+'FY 2020'!G57","v":107518924},{"$f":"'FY 2016'!H57+'FY 2017'!H57+'FY 2018'!H57+'FY 2019'!H57+'FY 2020'!H57","v":8284541},{"$f":"'FY 2016'!I57+'FY 2017'!I57+'FY 2018'!I57+'FY 2019'!I57+'FY 2020'!I57","v":67009421},{"$f":"'FY 2016'!J57+'FY 2017'!J57+'FY 2018'!J57+'FY 2019'!J57+'FY 2020'!J57","v":16828893},{"$f":"'FY 2016'!K57+'FY 2017'!K57+'FY 2018'!K57+'FY 2019'!K57+'FY 2020'!K57","v":55337562},1839102113]
[null,"Vermont",{"$f":"'FY 2016'!C58+'FY 2017'!C58+'FY 2018'!C58+'FY 2019'!C58+'FY 2020'!C58","v":602560063},{"$f":"'FY 2016'!D58+'FY 2017'!D58+'FY 2018'!D58+'FY 2019'!D58+'FY 2020'!D58","v":285462690},{"$f":"'FY 2016'!E58+'FY 2017'!E58+'FY 2018'!E58+'FY 2019'!E58+'FY 2020'!E58","v":11059348},{"$f":"'FY 2016'!F58+'FY 2017'!F58+'FY 2018'!F58+'FY 2019'!F58+'FY 2020'!F58","v":5140050},{"$f":"'FY 2016'!G58+'FY 2017'!G58+'FY 2018'!G58+'FY 2019'!G58+'FY 2020'!G58","v":60181283},{"$f":"'FY 2016'!H58+'FY 2017'!H58+'FY 2018'!H58+'FY 2019'!H58+'FY 2020'!H58","v":5875000},{"$f":"'FY 2016'!I58+'FY 2017'!I58+'FY 2018'!I58+'FY 2019'!I58+'FY 2020'!I58","v":61440092},{"$f":"'FY 2016'!J58+'FY 2017'!J58+'FY 2018'!J58+'FY 2019'!J58+'FY 2020'!J58","v":10886721},{"$f":"'FY 2016'!K58+'FY 2017'!K58+'FY 2018'!K58+'FY 2019'!K58+'FY 2020'!K58","v":32310882},1074916129]
[null,"Virginia",{"$f":"'FY 2016'!C59+'FY 2017'!C59+'FY 2018'!C59+'FY 2019'!C59+'FY 2020'!C59","v":3045494695},{"$f":"'FY 2016'!D59+'FY 2017'!D59+'FY 2018'!D59+'FY 2019'!D59+'FY 2020'!D59","v":1410966389},{"$f":"'FY 2016'!E59+'FY 2017'!E59+'FY 2018'!E59+'FY 2019'!E59+'FY 2020'!E59","v":105090102},{"$f":"'FY 2016'!F59+'FY 2017'!F59+'FY 2018'!F59+'FY 2019'!F59+'FY 2020'!F59","v":7635805},{"$f":"'FY 2016'!G59+'FY 2017'!G59+'FY 2018'!G59+'FY 2019'!G59+'FY 2020'!G59","v":310093080},{"$f":"'FY 2016'!H59+'FY 2017'!H59+'FY 2018'!H59+'FY 2019'!H59+'FY 2020'!H59","v":23775236},{"$f":"'FY 2016'!I59+'FY 2017'!I59+'FY 2018'!I59+'FY 2019'!I59+'FY 2020'!I59","v":284843416},{"$f":"'FY 2016'!J59+'FY 2017'!J59+'FY 2018'!J59+'FY 2019'!J59+'FY 2020'!J59","v":39262078},{"$f":"'FY 2016'!K59+'FY 2017'!K59+'FY 2018'!K59+'FY 2019'!K59+'FY 2020'!K59","v":162484018},5389644819]
[null,"Washington",{"$f":"'FY 2016'!C60+'FY 2017'!C60+'FY 2018'!C60+'FY 2019'!C60+'FY 2020'!C60","v":2020299085},{"$f":"'FY 2016'!D60+'FY 2017'!D60+'FY 2018'!D60+'FY 2019'!D60+'FY 2020'!D60","v":946763254},{"$f":"'FY 2016'!E60+'FY 2017'!E60+'FY 2018'!E60+'FY 2019'!E60+'FY 2020'!E60","v":54926192},{"$f":"'FY 2016'!F60+'FY 2017'!F60+'FY 2018'!F60+'FY 2019'!F60+'FY 2020'!F60","v":9431350},{"$f":"'FY 2016'!G60+'FY 2017'!G60+'FY 2018'!G60+'FY 2019'!G60+'FY 2020'!G60","v":199880956},{"$f":"'FY 2016'!H60+'FY 2017'!H60+'FY 2018'!H60+'FY 2019'!H60+'FY 2020'!H60","v":21597324},{"$f":"'FY 2016'!I60+'FY 2017'!I60+'FY 2018'!I60+'FY 2019'!I60+'FY 2020'!I60","v":191656459},{"$f":"'FY 2016'!J60+'FY 2017'!J60+'FY 2018'!J60+'FY 2019'!J60+'FY 2020'!J60","v":38026024},{"$f":"'FY 2016'!K60+'FY 2017'!K60+'FY 2018'!K60+'FY 2019'!K60+'FY 2020'!K60","v":107873727},3590454371]
[null,"West Virginia",{"$f":"'FY 2016'!C61+'FY 2017'!C61+'FY 2018'!C61+'FY 2019'!C61+'FY 2020'!C61","v":1343440590},{"$f":"'FY 2016'!D61+'FY 2017'!D61+'FY 2018'!D61+'FY 2019'!D61+'FY 2020'!D61","v":634976638},{"$f":"'FY 2016'!E61+'FY 2017'!E61+'FY 2018'!E61+'FY 2019'!E61+'FY 2020'!E61","v":29170897},{"$f":"'FY 2016'!F61+'FY 2017'!F61+'FY 2018'!F61+'FY 2019'!F61+'FY 2020'!F61","v":6555375},{"$f":"'FY 2016'!G61+'FY 2017'!G61+'FY 2018'!G61+'FY 2019'!G61+'FY 2020'!G61","v":136815682},{"$f":"'FY 2016'!H61+'FY 2017'!H61+'FY 2018'!H61+'FY 2019'!H61+'FY 2020'!H61","v":10465627},{"$f":"'FY 2016'!I61+'FY 2017'!I61+'FY 2018'!I61+'FY 2019'!I61+'FY 2020'!I61","v":74286181},{"$f":"'FY 2016'!J61+'FY 2017'!J61+'FY 2018'!J61+'FY 2019'!J61+'FY 2020'!J61","v":8840081},{"$f":"'FY 2016'!K61+'FY 2017'!K61+'FY 2018'!K61+'FY 2019'!K61+'FY 2020'!K61","v":70028323},2314579394]
[null,"Wisconsin",{"$f":"'FY 2016'!C62+'FY 2017'!C62+'FY 2018'!C62+'FY 2019'!C62+'FY 2020'!C62","v":2298754936},{"$f":"'FY 2016'!D62+'FY 2017'!D62+'FY 2018'!D62+'FY 2019'!D62+'FY 2020'!D62","v":1050636233},{"$f":"'FY 2016'!E62+'FY 2017'!E62+'FY 2018'!E62+'FY 2019'!E62+'FY 2020'!E62","v":86723415},{"$f":"'FY 2016'!F62+'FY 2017'!F62+'FY 2018'!F62+'FY 2019'!F62+'FY 2020'!F62","v":10838770},{"$f":"'FY 2016'!G62+'FY 2017'!G62+'FY 2018'!G62+'FY 2019'!G62+'FY 2020'!G62","v":221924721},{"$f":"'FY 2016'!H62+'FY 2017'!H62+'FY 2018'!H62+'FY 2019'!H62+'FY 2020'!H62","v":30086071},{"$f":"'FY 2016'!I62+'FY 2017'!I62+'FY 2018'!I62+'FY 2019'!I62+'FY 2020'!I62","v":142099729},{"$f":"'FY 2016'!J62+'FY 2017'!J62+'FY 2018'!J62+'FY 2019'!J62+'FY 2020'!J62","v":23743184},{"$f":"'FY 2016'!K62+'FY 2017'!K62+'FY 2018'!K62+'FY 2019'!K62+'FY 2020'!K62","v":120305648},3985112707]
[null,"Wyoming",{"$f":"'FY 2016'!C63+'FY 2017'!C63+'FY 2018'!C63+'FY 2019'!C63+'FY 2020'!C63","v":778983972},{"$f":"'FY 2016'!D63+'FY 2017'!D63+'FY 2018'!D63+'FY 2019'!D63+'FY 2020'!D63","v":370509324},{"$f":"'FY 2016'!E63+'FY 2017'!E63+'FY 2018'!E63+'FY 2019'!E63+'FY 2020'!E63","v":11356411},{"$f":"'FY 2016'!F63+'FY 2017'!F63+'FY 2018'!F63+'FY 2019'!F63+'FY 2020'!F63","v":7372380},{"$f":"'FY 2016'!G63+'FY 2017'!G63+'FY 2018'!G63+'FY 2019'!G63+'FY 2020'!G63","v":79524025},{"$f":"'FY 2016'!H63+'FY 2017'!H63+'FY 2018'!H63+'FY 2019'!H63+'FY 2020'!H63","v":5875000},{"$f":"'FY 2016'!I63+'FY 2017'!I63+'FY 2018'!I63+'FY 2019'!I63+'FY 2020'!I63","v":54045958},{"$f":"'FY 2016'!J63+'FY 2017'!J63+'FY 2018'!J63+'FY 2019'!J63+'FY 2020'!J63","v":8210346},{"$f":"'FY 2016'!K63+'FY 2017'!K63+'FY 2018'!K63+'FY 2019'!K63+'FY 2020'!K63","v":40957220},1356834636]
[]
[null,"Apportioned Total",{"$f":"SUM(C13:C63)","v":116399144775},{"$f":"SUM(D13:D63)","v":54048082929},3799200000,420800000,11585393509,{"$f":"SUM(H13:H63)","v":1175000000},12022732534,1717082358,{"$f":"SUM(K13:K63)","v":6246586977},207414023082]
[]
[null,"1 Reflects $3,500,000 takedown for safety-related programs for each fiscal year."]
[]
[null,"Disclaimer:  This technical assistance is provided in response to a Congressional request and is not intended to reflect the viewpoint or policies of any element of the "]
[null,"Department of Transportation or the Administration. "]

{"sheet":"FY 2016","index":2,"n_rows":70,"n_cols":13,"rows_kept":70,"cut":false,"hidden":false,"merged":[[1,1,1,11],[0,1,0,11]]}
["FHWA, HCFB-11","U.S. DEPARTMENT OF TRANSPORTATION",{"$nulls":10},{"$f":"Comparison!L1","v":"2015-12-01"}]
[{"$f":"Comparison!A2","v":"TA"},"FEDERAL HIGHWAY ADMINISTRATION"]
[]
[]
[null,"SUMMARY OF ESTIMATED FY 2016 APPORTIONMENTS UNDER THE CONFERENCE REPORT FOR H.R. 22 (FAST ACT)"]
[null,"(before post-apportionment setasides; before penalties; before sequestration)"]
[]
[null,null,"National","Surface","Surface","STBGP set-aside:","Highway","Railway-"]
[null,null,"Highway","Transportation","Transportation","Recreational ","Safety","Highway",null,null,"National"]
[null,null,"Performance","Block Grant","Block Grant","Trails","Improvement","Crossings","CMAQ","Metropolitan","Freight","Apportioned"]
[null,"State","Program","Program","Set-aside","Program","Program 1","Program","Program","Planning","Program","Total"]
[]
[null,"Alabama",455951217,209631313,15592429,1749787,45374122,4658949,11363745,3061993,22188355,{"$f":"SUM(C13:K13)","v":769571910}]
[null,"Alaska",288517077,137445922,5135723,1527922,30534956,1125000,27412516,2258068,14657416,{"$f":"SUM(C14:K14)","v":508614600}]
[null,"Arizona",411997759,188739367,15467687,1934863,42484510,2725399,51676497,5827406,21312957,742166445]
[null,"Arkansas",308512509,142491405,9692709,1493969,30010642,3843480,12266258,1711004,15153085,525175061]
[null,"California",1924660268,894076885,68901913,5756189,195471326,15728162,462277146,49825833,106303825,3723001547]
[null,"Colorado",297705132,137015364,10486329,1591652,29431653,3236539,42132383,5266924,15546723,542412699]
[null,"Connecticut",276979163,129967162,7892325,962216,29080605,1313257,44069978,4596004,14613003,509473713]
[null,"Delaware",95199826,43937897,2791539,905680,9321599,1125000,11616546,1774540,4914864,171587491]
[null,"Dist. of Col.",90309344,41937898,2404385,825098,8784950,1125000,10062647,1767535,4633177,161850034]
[null,"Florida",1140082761,516661110,48217971,2602532,116455633,8649509,13544856,20619163,55027110,1921860645]
[null,"Georgia",743626331,337736885,31926010,1740137,73562218,8038417,67684920,7737332,37687569,1309739819]
[null,"Hawaii",96031897,44309737,2747081,960464,9412905,1125000,10318553,1741625,4915116,171562378]
[null,"Idaho",166207549,77357678,3885329,1710560,16430694,1807823,12764129,1612379,8351391,290127532]
[null,"Illinois",791183895,366985793,27734998,1525297,76305872,10513416,109668007,16992504,41246826,1442156608]
[null,"Indiana",550991617,252233208,21669026,1201709,52999254,7462921,46932909,5212406,27826482,966529532]
[null,"Iowa",292883109,135317156,9199453,1374817,26802644,5336411,11251436,1975337,14373417,498513780]
[null,"Kansas",224418519,101185088,9248438,1384250,18530162,6096042,9479395,1939764,11039660,383321318]
[null,"Kentucky",397052354,184438760,11875707,1424395,39910933,3658966,13646275,2522778,19436551,673966719]
[null,"Louisiana",420336110,197149265,10632662,1517643,42041101,4083803,11402016,4281457,20483439,711927496]
[null,"Maine",105490588,49280292,1996460,1442741,10315283,1260556,10257182,1834517,5366346,187243965]
[null,"Maryland",330040161,153144738,11203275,1123620,33870292,2346133,53487408,6905801,17442171,609563599]
[null,"Massachusetts",326532639,152064168,10753076,1186729,33358355,2473177,63174562,8951863,17569747,616064316]
[null,"Michigan",592091019,269411107,24017526,2853955,57284399,7687753,73718834,10312637,30612639,1067989869]
[null,"Minnesota",376470972,170987758,14587471,2416048,35243727,6067708,32101015,4553423,19013769,661441891]
[null,"Mississippi",288315734,132800919,9450073,1361924,28177385,3460477,11175589,1693464,14152310,490587875]
[null,"Missouri",562174933,260166347,18278023,1663399,56082029,5607330,23479971,5176323,27646548,960274903]
[null,"Montana",240963310,114164044,4393753,1606705,24539915,1901805,14829579,1790379,11995469,416184959]
[null,"Nebraska",169638303,77706208,5676690,1217387,14949684,3665302,10248103,1650549,8438960,293191186]
[null,"Nevada",199908721,93845660,5004381,1357950,20811661,1125000,32443244,3269120,10566287,368332024]
[null,"New Hampshire",93744154,42984645,2623489,1267944,9161864,1125000,10309073,1574311,4805235,167595715]
[null,"New Jersey",538350601,252199443,16900126,1226757,55351201,3723833,103689682,12397571,28952836,1012792050]
[null,"New Mexico",216882649,100654542,6024546,1429831,22185636,1613631,11368844,1602915,10736322,372498916]
[null,"New York",897352887,421942772,26772057,2204556,92217324,6252246,182483421,24869709,48554600,1702649572]
[null,"North Carolina",603240031,277423558,22148051,1613560,59665889,6529682,51053464,5792724,30455093,1057922052]
[null,"North Dakota",144482130,67729043,3241209,1131881,12080179,3774334,10479532,1672029,7240957,251831294]
[null,"Ohio",753801609,348692516,26837960,1671851,73971867,8745336,95385605,11536224,39020269,1359663237]
[null,"Oklahoma",379730372,174538179,12758986,1787083,36346556,5322543,11709675,2574929,18547675,643315998]
[null,"Oregon",291863356,136354791,7647727,1610153,29087277,2939877,19325359,3604875,14570938,507004353]
[null,"Pennsylvania",931501130,437718754,26056984,1991266,95608422,6608351,104095897,12917282,47798464,1664296550]
[null,"Rhode Island",126303052,59834985,2367982,865034,12734661,1125000,10389924,1849352,6367383,221837373]
[null,"South Carolina",400238109,183242807,14868309,1211220,39627687,4291796,13048905,3136820,19570931,679236584]
[null,"South Dakota",164005151,76425846,4286315,1137193,15626616,2370224,12219376,1759819,8229265,286059805]
[null,"Tennessee",491552314,226604719,17066919,1640613,49151643,4788057,36898500,4787302,24672946,857163013]
[null,"Texas",1996468665,916422524,76379642,3994822,200827495,18251772,163993152,24374383,100641720,3501354175]
[null,"Utah",202670322,94486990,5068405,1561852,20653300,1586401,12869684,3227138,10101301,352225393]
[null,"Vermont",115606627,54584692,2177321,1028010,11560907,1125000,11800051,2087656,5898018,205868282]
[null,"Virginia",584310665,269597493,20777610,1527161,59565683,4552705,54706409,7528965,29659781,1032226472]
[null,"Washington",387614261,180969925,10847983,1886270,38398568,4135658,36809124,7291937,19691236,687644962]
[null,"West Virginia",257760426,121429137,5757986,1311075,26280869,2004056,14267243,1695189,12782948,443288929]
[null,"Wisconsin",441049920,200672838,17136612,2167754,42636738,5761163,27291366,4553034,21960555,763229980]
[null,"Wyoming",149458812,70865435,2231339,1474476,15275621,1125000,10379950,1574430,7476318,259861381]
[]
[null,"Apportioned Total",{"$f":"SUM(C13:C63)","v":22332260060},{"$f":"SUM(D13:D63)","v":10327564768},{"$f":"SUM(E13:E63)","v":750840000},{"$f":"SUM(F13:F63)","v":84160000},{"$f":"SUM(G13:G63)","v":2225594512},225000000,2309059935,329270722,1140250003,{"$f":"SUM(L13:L63)","v":39724000000}]
[]
[null,"1 Reflects $3,500,000 takedown for safety-related programs."]
[]
[null,"Disclaimer:  This technical assistance is provided in response to a Congressional request and is not intended to reflect the viewpoint or policies of any element of the "]
[null,"Department of Transportation or the Administration. "]

{"sheet":"FY 2017","index":3,"n_rows":70,"n_cols":13,"rows_kept":70,"cut":false,"hidden":false,"merged":[[0,1,0,11],[1,1,1,11]]}
["FHWA, HCFB-11","U.S. DEPARTMENT OF TRANSPORTATION",{"$nulls":10},{"$f":"Comparison!L1","v":"2015-12-01"}]
[{"$f":"Comparison!A2","v":"TA"},"FEDERAL HIGHWAY ADMINISTRATION"]
[]
[]
[null,"SUMMARY OF ESTIMATED FY 2017 APPORTIONMENTS UNDER THE CONFERENCE REPORT FOR H.R. 22 (FAST ACT)"]
[null,"(before post-apportionment setasides; before penalties; before sequestration)"]
[]
[null,null,"National","Surface","Surface","STBGP set-aside:","Highway","Railway-"]
[null,null,"Highway","Transportation","Transportation","Recreational ","Safety","Highway",null,null,"National"]
[null,null,"Performance","Block Grant","Block Grant","Trails","Improvement","Crossings","CMAQ","Metropolitan","Freight","Apportioned"]
[null,"State","Program","Program","Set-aside","Program","Program 1","Program","Program","Planning","Program","Total"]
[]
[null,"Alabama",466070774,214942033,15592429,1749787,46382630,4762481,11615956,3123997,21223644,{"$f":"SUM(C13:K13)","v":785463731}]
[null,"Alaska",294920537,140824892,5135723,1527922,31213632,1150000,28020920,2303794,14020137,{"$f":"SUM(C14:K14)","v":519117557}]
[null,"Arizona",421141797,193578012,15467687,1934863,43428784,2785964,52823425,5945409,20386307,757492248]
[null,"Arkansas",315359754,146088622,9692709,1493969,30677676,3928891,12538500,1745652,14494254,536020027]
[null,"California",1967376918,916898934,68901913,5756189,199815949,16077677,472537102,50834794,101681920,3799881396]
[null,"Colorado",304312514,140516942,10486329,1591652,30085816,3308462,43067485,5373578,14870779,553613557]
[null,"Connecticut",283126545,133229077,7892325,962216,29726958,1342440,45048084,4689072,13977655,519994372]
[null,"Delaware",97312728,45056038,2791539,905680,9528786,1150000,11874368,1810474,4701174,175130787]
[null,"Dist. of Col.",92313704,42997814,2404385,825098,8980209,1150000,10285981,1803328,4431734,165192253]
[null,"Florida",1165386197,529938236,48217971,2602532,119044018,8841721,13845475,21036696,52634627,1961547473]
[null,"Georgia",760130660,346444875,31926010,1740137,75197249,8217049,69187145,7894011,36048979,1336786115]
[null,"Hawaii",98163265,45436352,2747081,960464,9622121,1150000,10547567,1776893,4701415,175105158]
[null,"Idaho",169896423,79301770,3885329,1710560,16795891,1847997,13047421,1645029,7988287,296118707]
[null,"Illinois",808743734,376292163,27734998,1525297,78001894,10747047,112102021,17336598,39453486,1471937238]
[null,"Indiana",563220536,258682067,21669026,1201709,54177250,7628763,47974557,5317955,26616635,986488498]
[null,"Iowa",299383469,138732089,9199453,1374817,27398382,5454998,11501155,2015337,13748486,508808186]
[null,"Kansas",229399350,103802886,9248438,1384250,18942038,6231510,9689784,1979044,10559675,391236975]
[null,"Kentucky",405864687,189066697,11875707,1424395,40798011,3740276,13949145,2573864,18591483,687884265]
[null,"Louisiana",429665212,202047259,10632662,1517643,42975527,4174554,11655077,4368155,19592854,726628943]
[null,"Maine",107831887,50516836,1996460,1442741,10544557,1288568,10484834,1871665,5133026,191110574]
[null,"Maryland",337365199,157033659,11203275,1123620,34623105,2398269,54674529,7045642,16683816,622151114]
[null,"Massachusetts",333779829,155922823,10753076,1186729,34099790,2528137,64576683,9133136,16805845,628786048]
[null,"Michigan",605232115,276366028,24017526,2853955,58557637,7858592,75354978,10521465,29281655,1090043951]
[null,"Minnesota",384826513,175394905,14587471,2416048,36027080,6202546,32813478,4645629,18187084,675100754]
[null,"Mississippi",294714725,136162467,9450073,1361924,28803671,3537376,11423625,1727757,13536992,500718610]
[null,"Missouri",574652060,266724044,18278023,1663399,57328534,5731938,24001094,5281142,26444524,980104758]
[null,"Montana",246311342,116978758,4393753,1606705,25085348,1944067,15158713,1826634,11473927,424779247]
[null,"Nebraska",173403320,79687936,5676690,1217387,15281971,3746753,10475553,1683973,8072049,299245632]
[null,"Nevada",204345572,96200465,5004381,1357950,21274227,1150000,33163302,3335318,10106883,375938098]
[null,"New Hampshire",95824748,44084523,2623489,1267944,9365500,1150000,10537877,1606191,4596312,171056584]
[null,"New Jersey",550298961,258558686,16900126,1226757,56581457,3806584,105991011,12648619,27694017,1033706218]
[null,"New Mexico",221696226,103186182,6024546,1429831,22678742,1649490,11621169,1635373,10269525,380191084]
[null,"New York",917269083,432555049,26772057,2204556,94266978,6391185,186533528,25373314,46443530,1737809280]
[null,"North Carolina",616628572,284483717,22148051,1613560,60992054,6674786,52186564,5910024,29130959,1079768287]
[null,"North Dakota",147688822,69418701,3241209,1131881,12348689,3858208,10712119,1705887,6926132,257031648]
[null,"Ohio",770531771,357546938,26837960,1671851,75616005,8939677,97502631,11769830,37323736,1387740399]
[null,"Oklahoma",388158253,178963151,12758986,1787083,37154418,5440822,11969564,2627071,17741255,656600603]
[null,"Oregon",298341083,139766549,7647727,1610153,29733784,3005208,19754274,3677872,13937420,517474070]
[null,"Pennsylvania",952175225,448646954,26056984,1991266,97733448,6755203,106406241,13178854,45720270,1698664445]
[null,"Rhode Island",129106271,61313487,2367982,865034,13017707,1150000,10620522,1886801,6090541,226418345]
[null,"South Carolina",409121148,187907759,14868309,1211220,40508472,4387169,13338517,3200341,18720020,693262955]
[null,"South Dakota",167645145,78343988,4286315,1137193,15973943,2422896,12490577,1795455,7871471,291966983]
[null,"Tennessee",502462014,232353548,17066919,1640613,50244109,4894459,37717440,4884244,23600209,874863555]
[null,"Texas",2040779058,939788723,76379642,3994822,205291175,18657366,167632879,24867959,96265993,3573657617]
[null,"Utah",207168465,96856258,5068405,1561852,21112347,1621655,13155319,3292487,9662114,359498902]
[null,"Vermont",118172444,55940384,2177321,1028010,11817865,1150000,12061946,2129932,5641582,210119484]
[null,"Virginia",597279081,276442502,20777610,1527161,60889613,4653876,55920584,7681424,28370225,1053542076]
[null,"Washington",396217121,185513169,10847983,1886270,39252034,4227561,37626080,7439597,18835095,701844910]
[null,"West Virginia",263481261,124438433,5757986,1311075,26864997,2048591,14583895,1729517,12227167,452442922]
[null,"Wisconsin",450838751,205826027,17136612,2167754,43584409,5889188,27897081,4645233,21005748,778990803]
[null,"Wyoming",152775958,72612743,2231339,1474476,15615143,1150000,10610326,1606312,7151261,265227558]
[]
[null,"Apportioned Total",{"$f":"SUM(C13:C63)","v":22827910827},{"$f":"SUM(D13:D63)","v":10589412150},{"$f":"SUM(E13:E63)","v":750840000},{"$f":"SUM(F13:F63)","v":84160000},{"$f":"SUM(G13:G63)","v":2275061630},230000000,2360308101,335938378,1090673914,40544305000]
[]
[null,"1 Reflects $3,500,000 takedown for safety-related programs."]
[]
[null,"Disclaimer:  This technical assistance is provided in response to a Congressional request and is not intended to reflect the viewpoint or policies of any element of the "]
[null,"Department of Transportation or the Administration. "]

{"sheet":"FY 2018","index":4,"n_rows":70,"n_cols":13,"rows_kept":70,"cut":false,"hidden":false,"merged":[[0,1,0,11],[1,1,1,11]]}
["FHWA, HCFB-11","U.S. DEPARTMENT OF TRANSPORTATION",{"$nulls":10},{"$f":"Comparison!L1","v":"2015-12-01"}]
[{"$f":"Comparison!A2","v":"TA"},"FEDERAL HIGHWAY ADMINISTRATION"]
[]
[]
[null,"SUMMARY OF ESTIMATED FY 2018 APPORTIONMENTS UNDER THE CONFERENCE REPORT FOR H.R. 22 (FAST ACT)"]
[null,"(before post-apportionment setasides; before penalties; before sequestration)"]
[]
[null,null,"National","Surface","Surface","STBGP set-aside:","Highway","Railway-"]
[null,null,"Highway","Transportation","Transportation","Recreational ","Safety","Highway",null,null,"National"]
[null,null,"Performance","Block Grant","Block Grant","Trails","Improvement","Crossings","CMAQ","Metropolitan","Freight","Apportioned"]
[null,"State","Program","Program","Set-aside","Program","Program 1","Program","Program","Planning","Program","Total"]
[]
[null,"Alabama",474932708,219553768,15903966,1749787,47252937,4866013,11836824,3189632,23153066,{"$f":"SUM(C13:K13)","v":802438701}]
[null,"Alaska",300528197,143844359,5255429,1527922,31804858,1175000,28553714,2352197,15294694,{"$f":"SUM(C14:K14)","v":530336370}]
[null,"Arizona",429149445,197765549,15780308,1934863,44248182,2846528,53827817,6070322,22239607,773862621]
[null,"Arkansas",321356048,149223826,9893667,1493969,31251198,4014302,12776909,1782328,15811914,547604161]
[null,"California",2004784895,936862091,70243076,5756189,203577200,16427192,481521988,51902834,110925731,3882001196]
[null,"Colorado",310098755,143558486,10703299,1591652,30649742,3380386,43886376,5486478,16222667,565577841]
[null,"Connecticut",288509952,136106980,8051388,962216,30289358,1371623,45904635,4787589,15248351,531232092]
[null,"Delaware",99163045,46029573,2857957,905680,9707118,1175000,12100148,1848512,5128554,178915587]
[null,"Dist. of Col.",94068969,43925312,2462399,825098,9148096,1175000,10481560,1841216,4834620,168762270]
[null,"Florida",1187545011,541333026,49130914,2602532,121286842,9033932,14108735,21478677,57419594,2003939263]
[null,"Georgia",774583890,353929739,32530791,1740137,76606885,8395680,70502679,8059864,39326159,1365675824]
[null,"Hawaii",100029755,46417113,2813683,960464,9802230,1175000,10748120,1814225,5128817,178889407]
[null,"Idaho",173126858,81006484,3985854,1710560,17110710,1888171,13295506,1679591,8714494,302518228]
[null,"Illinois",824121299,384427085,28260632,1525297,79458104,10980679,114233544,17700841,43040166,1503747647]
[null,"Indiana",573929689,264260937,22079877,1201709,55188237,7794606,48886752,5429686,29036329,1007807822]
[null,"Iowa",305075988,141709221,9389410,1374817,27905347,5573585,11719839,2057680,14998347,519804234]
[null,"Kansas",233761181,106040102,9439444,1384250,19285893,6366977,9874027,2020623,11519646,399692143]
[null,"Kentucky",413581854,193119256,12114631,1424395,41564741,3821586,14214376,2627941,20281618,702750398]
[null,"Louisiana",437834926,206370413,10850931,1517643,43782546,4265305,11876688,4459930,21374023,742332405]
[null,"Maine",109882216,51604239,2058242,1442741,10741855,1316581,10684194,1910988,5599666,195240722]
[null,"Maryland",343779908,160433718,11424717,1123620,35275881,2450406,55714117,7193672,18200526,635596565]
[null,"Massachusetts",340126366,159305633,10967563,1186729,34742253,2583096,65804553,9325022,18333650,642374865]
[null,"Michigan",616740081,282352130,24500248,2853955,59651409,8029431,76787788,10742522,31943624,1113601188]
[null,"Minnesota",392143658,179183151,14892924,2416048,36696324,6337384,33437398,4743233,19840455,689690575]
[null,"Mississippi",300318471,139085772,9644301,1361924,29342568,3614276,11640835,1764056,14767628,511539831]
[null,"Missouri",585578573,272448633,18636252,1663399,58404643,5856545,24457454,5392100,28848571,1001286170]
[null,"Montana",250994740,119483271,4501546,1606705,25557745,1986329,15446943,1865012,12517011,433959302]
[null,"Nebraska",176700435,81403371,5800536,1217387,15562840,3828204,10674737,1719353,8805872,305712735]
[null,"Nevada",208231028,98278776,5118674,1357950,21676200,1175000,33793873,3405393,11025691,384062585]
[null,"New Hampshire",97646772,45037162,2693395,1267944,9540723,1175000,10738245,1639937,5014159,174753337]
[null,"New Jersey",560762422,264160678,17225758,1226757,57648536,3889336,108006338,12914367,30211655,1056045847]
[null,"New Mexico",225911588,105401211,6158457,1429831,23106110,1685348,11842136,1669732,11203119,388407532]
[null,"New York",934710164,441930932,27292595,2204556,96044642,6530124,190080302,25906408,50665669,1775365392]
[null,"North Carolina",628353233,290614278,22574906,1613560,62135374,6819890,53178847,6034194,31779228,1103103510]
[null,"North Dakota",150496997,70909003,3319767,1131881,12573405,3942083,10915800,1741728,7555781,262586445]
[null,"Ohio",785182769,365270345,27350112,1671851,77031664,9134018,99356559,12017114,40716803,1417731235]
[null,"Oklahoma",395538748,182804733,13020292,1787083,37847184,5559100,12197155,2682265,19354096,670790656]
[null,"Oregon",304013782,142767557,7814037,1610153,30291827,3070539,20129884,3755145,15204457,528657381]
[null,"Pennsylvania",970280016,458302596,26560844,1991266,99576134,6902055,108429465,13455742,49876658,1735374776]
[null,"Rhode Island",131561115,62628735,2426060,865034,13262470,1175000,10822462,1926443,6644226,231311545]
[null,"South Carolina",416900234,191944669,15157163,1211220,41267943,4482543,13592138,3267579,20421841,708245330]
[null,"South Dakota",170832772,80027630,4383744,1137193,16271561,2475567,12728075,1833177,8587060,298276779]
[null,"Tennessee",512015897,237355438,17402983,1640613,51187585,5000860,38434605,4986862,25745682,893770525]
[null,"Texas",2079582714,960047229,77823495,3994822,209149718,19062961,170820273,25390435,105017447,3650889094]
[null,"Utah",211107595,98936717,5187512,1561852,21509966,1656908,13405456,3361662,10540488,367268156]
[null,"Vermont",120419392,57142924,2234902,1028010,12039782,1175000,12291293,2174681,6154454,214660438]
[null,"Virginia",608635827,282401722,21178294,1527161,62036436,4755047,56983865,7842812,30949337,1076310501]
[null,"Washington",403750849,189506569,11076742,1886270,39988012,4319465,38341507,7595903,20547376,717012693]
[null,"West Virginia",268491129,127103749,5884975,1311075,27370998,2093125,14861196,1765853,13338729,462220829]
[null,"Wisconsin",459411061,210262314,17483397,2167754,44398395,6017214,28427520,4742829,22915361,795825845]
[null,"Wyoming",155680862,74168361,2297911,1474476,15909363,1175000,10812072,1640061,7801375,270959481]
[]
[null,"Apportioned Total",{"$f":"SUM(C13:C63)","v":23261963879},{"$f":"SUM(D13:D63)","v":10817786566},{"$f":"SUM(E13:E63)","v":765840000},{"$f":"SUM(F13:F63)","v":84160000},{"$f":"SUM(G13:G63)","v":2317759770},235000000,2405187322,342996446,1189826092,41420520075]
[]
[null,"1 Reflects $3,500,000 takedown for safety-related programs."]
[]
[null,"Disclaimer:  This technical assistance is provided in response to a Congressional request and is not intended to reflect the viewpoint or policies of any element of the "]
[null,"Department of Transportation or the Administration. "]

{"sheet":"FY 2019","index":5,"n_rows":70,"n_cols":13,"rows_kept":70,"cut":false,"hidden":false,"merged":[[0,1,0,11],[1,1,1,11]]}
["FHWA, HCFB-11","U.S. DEPARTMENT OF TRANSPORTATION",{"$nulls":10},{"$f":"Comparison!L1","v":"2015-12-01"}]
[{"$f":"Comparison!A2","v":"TA"},"FEDERAL HIGHWAY ADMINISTRATION"]
[]
[]
[null,"SUMMARY OF ESTIMATED FY 2019 APPORTIONMENTS UNDER THE CONFERENCE REPORT FOR H.R. 22 (FAST ACT)"]
[null,"(before post-apportionment setasides; before penalties; before sequestration)"]
[]
[null,null,"National","Surface","Surface","STBGP set-aside:","Highway","Railway-"]
[null,null,"Highway","Transportation","Transportation","Recreational ","Safety","Highway",null,null,"National"]
[null,null,"Performance","Block Grant","Block Grant","Trails","Improvement","Crossings","CMAQ","Metropolitan","Freight","Apportioned"]
[null,"State","Program","Program","Set-aside","Program","Program 1","Program","Program","Planning","Program","Total"]
[]
[null,"Alabama",484665054,223798297,15903966,1749787,48104792,4969545,12053506,3258116,26047198,{"$f":"SUM(C13:K13)","v":820550261}]
[null,"Alaska",306715836,146537119,5255429,1527922,32384409,1200000,29076413,2402700,17206531,{"$f":"SUM(C14:K14)","v":542306359}]
[null,"Arizona",438006709,201615831,15780308,1934863,45050906,2907092,54813179,6200655,25019558,791329101]
[null,"Arkansas",327947304,152097244,9893667,1493969,31812237,4099712,13010800,1820596,17788403,559963932]
[null,"California",2046507174,954930467,70243076,5756189,207260565,16776706,490336634,53017217,124791447,3969619475]
[null,"Colorado",316507189,146342615,10703299,1591652,31201622,3452309,44689751,5604275,18250501,578343213]
[null,"Connecticut",294478744,138698819,8051388,962216,30840549,1400807,46744956,4890381,17154396,543222256]
[null,"Delaware",101209812,46919283,2857957,905680,9881597,1200000,12321651,1888201,5769623,182953804]
[null,"Dist. of Col.",96009347,44769024,2462399,825098,9312327,1200000,10673434,1880748,5438947,172571324]
[null,"Florida",1211876986,551945482,49130914,2602532,123483528,9226143,14367007,21939836,64597043,2049169471]
[null,"Georgia",790530387,360869711,32530791,1740137,77986426,8574312,71793287,8232914,44241929,1396499894]
[null,"Hawaii",102092354,47314114,2813683,960464,9978452,1200000,10944873,1853178,5769918,182927036]
[null,"Idaho",176687527,82556800,3985854,1710560,17418802,1928345,13538891,1715653,9803807,309346239]
[null,"Illinois",841153272,391826414,28260632,1525297,80882297,11214310,116324681,18080888,48420187,1537687978]
[null,"Indiana",585739987,269401872,22079877,1201709,56176926,7960449,49781663,5546264,32665871,1030554618]
[null,"Iowa",311333252,144437051,9389410,1374817,28400459,5692172,11934381,2101859,16873141,531536542]
[null,"Kansas",238557551,108130701,9439444,1384250,19620665,6502445,10054780,2064007,12959601,408713444]
[null,"Kentucky",422062129,196816699,12114631,1424395,42315403,3902897,14474582,2684363,22816821,718611920]
[null,"Louisiana",446810391,210284182,10850931,1517643,44572556,4356056,12094101,4555687,24045776,759087323]
[null,"Maine",112146331,52589201,2058242,1442741,10934885,1344593,10879777,1952019,6299623,199647412]
[null,"Maryland",350895502,163522871,11424717,1123620,35915301,2502542,56734009,7348124,20475593,649942279]
[null,"Massachusetts",347183849,162366097,10967563,1186729,35371500,2638056,67009158,9525236,20625356,656873544]
[null,"Michigan",629470947,287885905,24500248,2853955,60721221,8200270,78193450,10973170,35936577,1138735743]
[null,"Minnesota",400214589,182696085,14892924,2416048,37350332,6472222,34049496,4845074,22320512,705257282]
[null,"Mississippi",306477952,141771015,9644301,1361924,29869797,3691175,11853930,1801932,16613581,523085607]
[null,"Missouri",597593678,277685658,18636252,1663399,59458001,5981152,24905168,5507871,32454643,1023885822]
[null,"Montana",256150923,121729463,4501546,1606705,26020390,2028592,15729712,1905055,14081637,443754023]
[null,"Nebraska",180330656,82984755,5800536,1217387,15836845,3909655,10870146,1756269,9906605,312612854]
[null,"Nevada",212539820,100149625,5118674,1357950,22070084,1200000,34412497,3478509,12403902,392731061]
[null,"New Hampshire",99660397,45912832,2693395,1267944,9712151,1200000,10934818,1675147,5640929,178697613]
[null,"New Jersey",572394092,269205503,17225758,1226757,58693829,3972088,109983481,13191645,33988112,1079881265]
[null,"New Mexico",230549663,107422263,6158457,1429831,23524701,1721207,12058915,1705582,12603509,397174128]
[null,"New York",954118007,450344545,27292595,2204556,97785990,6669063,193559874,26462633,56998878,1815436141]
[null,"North Carolina",641283107,296242626,22574906,1613560,63254282,6964994,54152328,6163752,35751631,1128001186]
[null,"North Dakota",153591740,72256555,3319767,1131881,12792274,4025957,11115623,1779124,8500253,268513174]
[null,"Ohio",801390642,372315489,27350112,1671851,78416817,9328359,101175360,12275129,45806403,1449730162]
[null,"Oklahoma",403647376,186340472,13020292,1787083,38524581,5677379,12420433,2739855,21773358,685930829]
[null,"Oregon",310263056,145489152,7814037,1610153,30838059,3135869,20498378,3835770,17105014,540589488]
[null,"Pennsylvania",990287259,467003476,26560844,1991266,101381123,7048907,110414353,13744644,56111240,1774543112]
[null,"Rhode Island",134268753,63807273,2426060,865034,13502122,1200000,11020576,1967805,7474754,236532377]
[null,"South Carolina",425448365,195671734,15157163,1211220,42011217,4577916,13840953,3337736,22974571,724230875]
[null,"South Dakota",174345960,81557332,4383744,1137193,16562541,2528239,12961072,1872536,9660442,305009059]
[null,"Tennessee",522545255,241940158,17402983,1640613,52111169,5107261,39138181,5093932,28963893,913943445]
[null,"Texas",2122375220,978674696,77823495,3994822,212927467,19468556,173947275,25935582,118144628,3733291741]
[null,"Utah",215447317,100826648,5187512,1561852,21899382,1692162,13650853,3433839,11858049,375557614]
[null,"Vermont",122901524,58222554,2234902,1028010,12257021,1200000,12516295,2221373,6923761,219505440]
[null,"Virginia",621170088,287855848,21178294,1527161,63159613,4856218,58027001,8011201,34818004,1100603428]
[null,"Washington",412069610,193125598,11076742,1886270,40708305,4411368,39043379,7758991,23115799,733196062]
[null,"West Virginia",274004168,129505912,5884975,1311075,27866566,2137660,15133242,1803768,15006069,472653435]
[null,"Wisconsin",468850711,214374124,17483397,2167754,45194533,6145240,28947908,4844660,25779782,813788109]
[null,"Wyoming",158881333,75562124,2297911,1474476,16197535,1200000,11009996,1675274,8776547,277075196]
[]
[null,"Apportioned Total",{"$f":"SUM(C13:C63)","v":23741388895},{"$f":"SUM(D13:D63)","v":11026329314},{"$f":"SUM(E13:E63)","v":765840000},{"$f":"SUM(F13:F63)","v":84160000},{"$f":"SUM(G13:G63)","v":2359554152},240000000,2449216207,350360775,1338554353,42355403696]
[]
[null,"1 Reflects $3,500,000 takedown for safety-related programs."]
[]
[null,"Disclaimer:  This technical assistance is provided in response to a Congressional request and is not intended to reflect the viewpoint or policies of any element of the "]
[null,"Department of Transportation or the Administration. "]

{"sheet":"FY 2020","index":6,"n_rows":70,"n_cols":13,"rows_kept":70,"cut":false,"hidden":false,"merged":[[0,1,0,11],[1,1,1,11]]}
["FHWA, HCFB-11","U.S. DEPARTMENT OF TRANSPORTATION",{"$nulls":10},{"$f":"Comparison!L1","v":"2015-12-01"}]
[{"$f":"Comparison!A2","v":"TA"},"FEDERAL HIGHWAY ADMINISTRATION"]
[]
[]
[null,"SUMMARY OF ESTIMATED FY 2020 APPORTIONMENTS UNDER THE CONFERENCE REPORT FOR H.R. 22 (FAST ACT)"]
[null,"(before post-apportionment setasides; before penalties; before sequestration)"]
[]
[null,null,"National","Surface","Surface","STBGP set-aside:","Highway","Railway-"]
[null,null,"Highway","Transportation","Transportation","Recreational ","Safety","Highway",null,null,"National"]
[null,null,"Performance","Block Grant","Block Grant","Trails","Improvement","Crossings","CMAQ","Metropolitan","Freight","Apportioned"]
[null,"State","Program","Program","Set-aside","Program","Program 1","Program","Program","Planning","Program","Total"]
[]
[null,"Alabama",494741953,229079050,15903966,1749787,49080675,5073078,12298319,3333954,28941332,{"$f":"SUM(C13:K13)","v":840202114}]
[null,"Alaska",313099451,149900123,5255429,1527922,33042443,1225000,29666969,2458627,19118368,{"$f":"SUM(C14:K14)","v":555294332}]
[null,"Arizona",447127652,206433876,15780308,1934863,45965703,2967657,55926461,6344986,27799510,810281016]
[null,"Arkansas",334767158,155674801,9893667,1493969,32457197,4185123,13275056,1862973,19764892,573374836]
[null,"California",2089200481,977691725,70243076,5756189,211467482,17126221,500295608,54251287,138657164,4064689233]
[null,"Colorado",323099910,149830157,10703299,1591652,31834485,3524232,45597422,5734725,20278334,592194216]
[null,"Connecticut",300614078,141948341,8051388,962216,31467085,1429990,47694368,5004214,19060440,556232120]
[null,"Delaware",103317410,48032678,2857957,905680,10081972,1225000,12571910,1932152,6410692,187335451]
[null,"Dist. of Col.",98008370,45824308,2462399,825098,9501125,1225000,10890216,1924525,6043275,176704316]
[null,"Florida",1237072962,565147341,49130914,2602532,125990342,9418355,14658808,22450526,71774492,2098246272]
[null,"Georgia",806983187,369536390,32530791,1740137,79568253,8752943,73251443,8424550,49157698,1429945392]
[null,"Hawaii",104217869,48435729,2813683,960464,10180798,1225000,11167168,1896314,6411020,187308045]
[null,"Idaho",180364022,84491297,3985854,1710560,17772107,1968519,13813873,1755588,10893118,316754938]
[null,"Illinois",858674356,401095570,28260632,1525297,82521711,11447942,118687291,18501752,53800208,1574514759]
[null,"Indiana",597929430,275819579,22079877,1201709,57315499,8126291,50792752,5675363,36295412,1055235912]
[null,"Iowa",317807590,147833312,9389410,1374817,28975242,5810759,12176773,2150784,18747935,544266622]
[null,"Kansas",243518886,110734377,9439444,1384250,20016486,6637912,10258997,2112050,14399557,418501959]
[null,"Kentucky",430838573,201419066,12114631,1424395,43174072,3984207,14768568,2746847,25352023,735822382]
[null,"Louisiana",456100983,215154892,10850931,1517643,45476906,4446807,12339738,4661728,26717529,777267157]
[null,"Maine",114480797,53820085,2058242,1442741,11156611,1372605,11100750,1997455,6999582,204428868]
[null,"Maryland",358207008,167397372,11424717,1123620,36644501,2554678,57886304,7519164,22750659,665508023]
[null,"Massachusetts",354421937,166212282,10967563,1186729,36089573,2693015,68370147,9746953,22917062,672605261]
[null,"Michigan",642579319,294811416,24500248,2853955,61952096,8371109,79781597,11228590,39929529,1166007859]
[null,"Minnesota",408543503,187082092,14892924,2416048,38106750,6607060,34741058,4957851,24800569,722147855]
[null,"Mississippi",312851275,145114162,9644301,1361924,30475456,3768074,12094689,1843875,18459535,535613291]
[null,"Missouri",610021980,284207986,18636252,1663399,60664284,6105760,25411004,5636077,36060713,1048407455]
[null,"Montana",261479544,124529653,4501546,1606705,26548584,2070854,16049189,1949398,15646263,454381736]
[null,"Nebraska",184082072,84956284,5800536,1217387,16156995,3991106,11090924,1797149,11007339,320099792]
[null,"Nevada",216968180,102495571,5118674,1357950,22518347,1225000,35111432,3559477,13782114,402136745]
[null,"New Hampshire",101735317,47007847,2693395,1267944,9909081,1225000,11156909,1714138,6267699,182977330]
[null,"New Jersey",584326486,275543785,17225758,1226757,59885565,4054840,112217298,13498704,37764569,1105743762]
[null,"New Mexico",235345075,109940539,6158457,1429831,24002290,1757065,12303838,1745283,14003898,406686276]
[null,"New York",974012365,460923887,27292595,2204556,99771442,6808001,197491169,27078598,63332086,1858914699]
[null,"North Carolina",654628340,303268642,22574906,1613560,64537286,7110098,55252188,6307224,39724034,1155016278]
[null,"North Dakota",156787547,73937819,3319767,1131881,13050447,4109831,11341386,1820536,9444726,274943940]
[null,"Ohio",818079139,381132466,27350112,1671851,80007024,9522699,103230281,12560853,50896004,1484450429]
[null,"Oklahoma",412040523,190740817,13020292,1787083,39305274,5795658,12672698,2803630,24192620,702358595]
[null,"Oregon",316718230,148883721,7814037,1610153,31463684,3201200,20914710,3925054,19005572,553536361]
[null,"Pennsylvania",1010904618,477883203,26560844,1991266,103439501,7195760,112656922,14064575,62345822,1817042511]
[null,"Rhode Island",137063015,65278674,2426060,865034,13776132,1225000,11244409,2013608,8305283,242197215]
[null,"South Carolina",434295182,200310893,15157163,1211220,42863366,4673289,14122069,3415428,25527301,741575911]
[null,"South Dakota",177973663,83465974,4383744,1137193,16898134,2580911,13224318,1916123,10733825,312313885]
[null,"Tennessee",533418054,247660488,17402983,1640613,53168467,5213662,39933096,5212502,32182103,935831968]
[null,"Texas",2166542312,1001927908,77823495,3994822,217248302,19874151,177480229,26539278,131271809,3822702306]
[null,"Utah",219929852,103184002,5187512,1561852,22343929,1727415,13928109,3513767,13175610,384552048]
[null,"Vermont",125460076,59572136,2234902,1028010,12505708,1225000,12770507,2273079,7693067,224762485]
[null,"Virginia",634099034,294668824,21178294,1527161,64441735,4957390,59205557,8197676,38686671,1126962342]
[null,"Washington",420647244,197647993,11076742,1886270,41534037,4503272,39836369,7939596,25684221,750755744]
[null,"West Virginia",279703606,132499407,5884975,1311075,28432252,2182195,15440605,1845754,16673410,483973279]
[null,"Wisconsin",478604493,219500930,17483397,2167754,46110646,6273266,29535854,4957428,28644202,833277970]
[null,"Wyoming",162187007,77300661,2297911,1474476,16526363,1225000,11233614,1714269,9751719,283711020]
[]
[null,"Apportioned Total",{"$f":"SUM(C13:C63)","v":24235621114},{"$f":"SUM(D13:D63)","v":11286990131},{"$f":"SUM(E13:E63)","v":765840000},{"$f":"SUM(F13:F63)","v":84160000},{"$f":"SUM(G13:G63)","v":2407423445},245000000,2498960969,358516037,1487282615,43369794311]
[]
[null,"1 Reflects $3,500,000 takedown for safety-related programs."]
[]
[null,"Disclaimer:  This technical assistance is provided in response to a Congressional request and is not intended to reflect the viewpoint or policies of any element of the "]
[null,"Department of Transportation or the Administration. "]